BEGIN:VCALENDAR
VERSION:2.0
PRODID:-//Foreningen Respekt - ECPv6.14.0//NONSGML v1.0//EN
CALSCALE:GREGORIAN
METHOD:PUBLISH
X-ORIGINAL-URL:https://respekt.ngo
X-WR-CALDESC:Begivenheder for Foreningen Respekt
REFRESH-INTERVAL;VALUE=DURATION:PT1H
X-Robots-Tag:noindex
X-PUBLISHED-TTL:PT1H
BEGIN:VTIMEZONE
TZID:Europe/Copenhagen
BEGIN:DAYLIGHT
TZOFFSETFROM:+0100
TZOFFSETTO:+0200
TZNAME:CEST
DTSTART:20260329T010000
END:DAYLIGHT
BEGIN:STANDARD
TZOFFSETFROM:+0200
TZOFFSETTO:+0100
TZNAME:CET
DTSTART:20261025T010000
END:STANDARD
END:VTIMEZONE
BEGIN:VEVENT
DTSTART;TZID=Europe/Copenhagen:20260323T130000
DTEND;TZID=Europe/Copenhagen:20260323T150000
DTSTAMP:20260423T190112
CREATED:20250625T121652Z
LAST-MODIFIED:20250625T121652Z
UID:10002338-1774270800-1774278000@respekt.ngo
SUMMARY:Stolegymnastik
DESCRIPTION:Stolegymnastik er for alle\, men især:\nÆldre\, der ønsker at bevare funktionsevnen\nPersoner med fysiske begrænsninger eller sygdomme som gigt\, KOL\nMennesker under genoptræning efter fx operation eller skade
URL:https://respekt.ngo/event/stolegymnastik/2026-03-23/
LOCATION:Workshop Rum
ATTACH;FMTTYPE=image/jpeg:https://respekt.ngo/wp-content/uploads/2025/05/2f2773a9-426a-4ddd-9407-f48e2c23c6f8.jpeg
END:VEVENT
BEGIN:VEVENT
DTSTART;TZID=Europe/Copenhagen:20260323T100000
DTEND;TZID=Europe/Copenhagen:20260323T130000
DTSTAMP:20260423T190112
CREATED:20250625T123354Z
LAST-MODIFIED:20250625T123354Z
UID:10002975-1774260000-1774270800@respekt.ngo
SUMMARY:VUC Sundhedsdansk
DESCRIPTION:Alle kan deltage!\nNår du går til sundhedsdansk\, lærer du at tale om kroppen\, sundhed og sygdom uden tolk.\nDu kommer også til at arbejde med emner som børn\, familie og skole. Der er 6 timers undervisning fordelt på 2 dage om ugen i 3 måneder.
URL:https://respekt.ngo/event/vuc-sundhedsdansk/2026-03-23/
LOCATION:Workshop Rum
ATTACH;FMTTYPE=image/jpeg:https://respekt.ngo/wp-content/uploads/2024/09/vuc_logo_pri_p355c_100mm-1.jpg
ORGANIZER;CN="VUC FYN":MAILTO:awj@vucfyn.dk
END:VEVENT
BEGIN:VEVENT
DTSTART;TZID=Europe/Copenhagen:20260322T140000
DTEND;TZID=Europe/Copenhagen:20260322T170000
DTSTAMP:20260423T190112
CREATED:20251002T070823Z
LAST-MODIFIED:20251002T103328Z
UID:10004166-1774188000-1774198800@respekt.ngo
SUMMARY:Kurdisk ungdom – Dans
DESCRIPTION:Vi mødes i Kurdisk ungdom\, alleer velkomne\, gruppen er for dig der er mellem 15-30 år. Vi danser kurdisk folkedans og hygger os sammen.
URL:https://respekt.ngo/event/kurdisk-ungdom-dans/2026-03-22/
LOCATION:Workshop Rum
END:VEVENT
BEGIN:VEVENT
DTSTART;TZID=Europe/Copenhagen:20260320T160000
DTEND;TZID=Europe/Copenhagen:20260320T200000
DTSTAMP:20260423T190112
CREATED:20250629T191734Z
LAST-MODIFIED:20250629T191734Z
UID:10003728-1774022400-1774036800@respekt.ngo
SUMMARY:Ung kurdisk dansegruppe
DESCRIPTION:Danse gruppe/Røde Sol Kulturforening
URL:https://respekt.ngo/event/ung-danse-gruppe-2/2026-03-20/
LOCATION:Workshop Rum
ATTACH;FMTTYPE=image/jpeg:https://respekt.ngo/wp-content/uploads/2025/05/IMG-20250509-WA0016.jpg
END:VEVENT
BEGIN:VEVENT
DTSTART;TZID=Europe/Copenhagen:20260319T140000
DTEND;TZID=Europe/Copenhagen:20260319T163000
DTSTAMP:20260423T190112
CREATED:20251009T123953Z
LAST-MODIFIED:20251023T152951Z
UID:10004460-1773928800-1773937800@respekt.ngo
SUMMARY:AOF danskundervisning
DESCRIPTION:FVU-dansk \nTrin 1 er for dig\, der gerne vil begynde forfra med staveregler og grammatik.\nTrin 2 er for dig\, der vil arbejde mere med grammatik. Du lærer for eksempel om ordenes endelser\, om stumme bogstaver\, og du læser og skrive små tekster.\nTrin 3 Her finpudser du grammatikken\, og du læser og skriver forskellige typer af tekster.\nTrin 4 Du læser og skriver fagtekster\, og du kan bruge trin 4\, hvis du vil forberede dig på et studie.\nFør du begynder på undervisning\, får du lavet en læse-skrive-test\, der viser hvilket trin\, du bør gå på. Hvert trin varer 40-80 undervisningstimer. \nEfter hvert trin kan du gå til en skriftlig prøve. Du bestemmer selv\, om du vil gå til prøven. \nDu får et bevis for hvert trin\, du har gennemført.
URL:https://respekt.ngo/event/aof-danskundervisning-2/2026-03-19/
LOCATION:Workshop Rum
ORGANIZER;CN="Boligsocialt Hus":MAILTO:kahf@boligsocialthus.dk
END:VEVENT
BEGIN:VEVENT
DTSTART;TZID=Europe/Copenhagen:20260319T130000
DTEND;TZID=Europe/Copenhagen:20260319T140000
DTSTAMP:20260423T190112
CREATED:20250819T005107Z
LAST-MODIFIED:20250819T005107Z
UID:10004085-1773925200-1773928800@respekt.ngo
SUMMARY:Gymnastik med SDU
DESCRIPTION:Gymnastik med trænere fra universitet
URL:https://respekt.ngo/event/gymnastik-med-sdu/2026-03-19/
LOCATION:Workshop Rum
ORGANIZER;CN="R%C3%B8de Sol Kulturforening":MAILTO:gulshan@live.dk
END:VEVENT
BEGIN:VEVENT
DTSTART;TZID=Europe/Copenhagen:20260318T170000
DTEND;TZID=Europe/Copenhagen:20260318T190000
DTSTAMP:20260423T190112
CREATED:20250624T231042Z
LAST-MODIFIED:20250625T121000Z
UID:10001165-1773853200-1773860400@respekt.ngo
SUMMARY:Lektiehjælp
DESCRIPTION:SSO afholder ugentlig lektiehjælp hver onsdag fra 17-19.
URL:https://respekt.ngo/event/lektiehjaelp/2026-03-18/
LOCATION:Workshop Rum
ATTACH;FMTTYPE=image/png:https://respekt.ngo/wp-content/uploads/2025/01/SSO-logo.png
ORGANIZER;CN="Somalisk Studenterorganisation":MAILTO:ssoodense@gmail.com
END:VEVENT
BEGIN:VEVENT
DTSTART;TZID=Europe/Copenhagen:20260318T100000
DTEND;TZID=Europe/Copenhagen:20260318T130000
DTSTAMP:20260423T190112
CREATED:20250625T123354Z
LAST-MODIFIED:20250625T123354Z
UID:10002974-1773828000-1773838800@respekt.ngo
SUMMARY:VUC Sundhedsdansk
DESCRIPTION:Alle kan deltage!\nNår du går til sundhedsdansk\, lærer du at tale om kroppen\, sundhed og sygdom uden tolk.\nDu kommer også til at arbejde med emner som børn\, familie og skole. Der er 6 timers undervisning fordelt på 2 dage om ugen i 3 måneder.
URL:https://respekt.ngo/event/vuc-sundhedsdansk/2026-03-18/
LOCATION:Workshop Rum
ATTACH;FMTTYPE=image/jpeg:https://respekt.ngo/wp-content/uploads/2024/09/vuc_logo_pri_p355c_100mm-1.jpg
ORGANIZER;CN="VUC FYN":MAILTO:awj@vucfyn.dk
END:VEVENT
BEGIN:VEVENT
DTSTART;TZID=Europe/Copenhagen:20260317T143000
DTEND;TZID=Europe/Copenhagen:20260317T220000
DTSTAMP:20260423T190112
CREATED:20260303T093137Z
LAST-MODIFIED:20260303T093137Z
UID:10005046-1773757800-1773784800@respekt.ngo
SUMMARY:Vollsmose ungefællesskab
DESCRIPTION:Formålet med ungefællesskabet er at aktivere unge fra Vollsmose\, og understøtte dem\, så de kan involvere sig i positive handlingsfælleskaber\, hvor de får mod på og lyst til at engagere sig i deres lokalområde\, spise sammen og være med til at planlægge ungeaktiviteter for andre unge. \nArrangementet er internt.
URL:https://respekt.ngo/event/vollsmose-ungefaellesskab-20/
LOCATION:Cafe Rum\, Risingsvej 132\, 5240\, Denmark
ORGANIZER;CN="Mellemfolkeligt Samvirke":MAILTO:ieh@ms.dk
END:VEVENT
BEGIN:VEVENT
DTSTART;TZID=Europe/Copenhagen:20260317T120000
DTEND;TZID=Europe/Copenhagen:20260317T143000
DTSTAMP:20260423T190112
CREATED:20260113T131905Z
LAST-MODIFIED:20260113T131905Z
UID:10004928-1773748800-1773757800@respekt.ngo
SUMMARY:AOF engelskundervisning
DESCRIPTION:Styrk dine sproglige færdigheder på engelsk\nPå det danske arbejdsmarked fylder det engelske sprog mere og mere. Derfor bliver det for mange efterhånden væsentligt at være i stand til at forstå og kommunikere på engelsk. På FVU-engelsk lærer du at tale\, forstå\, læse og skrive på engelsk. Kurset er til dig\, der vil styrke og opbygge dine sproglige færdigheder på engelsk\, så du kan bruge det både i dit arbejds- og privatliv. \nUndervisningen er gratis\, og der kan søges om SVU (Statens Vok­se­nud­dan­nel­ses­støt­te).
URL:https://respekt.ngo/event/aof-engelskundervisning-2/2026-03-17/
LOCATION:Workshop Rum
ORGANIZER;CN="Boligsocialt Hus":MAILTO:kahf@boligsocialthus.dk
END:VEVENT
BEGIN:VEVENT
DTSTART;TZID=Europe/Copenhagen:20260316T170000
DTEND;TZID=Europe/Copenhagen:20260316T190000
DTSTAMP:20260423T190112
CREATED:20260201T134729Z
LAST-MODIFIED:20260201T134729Z
UID:10005023-1773680400-1773687600@respekt.ngo
SUMMARY:GAME Girl Zone
DESCRIPTION:Game  Girl Zone er for alle piger\, der har lyst\, i alderen 10-16 år.
URL:https://respekt.ngo/event/game-girl-zone-7/
LOCATION:Cafe Rum\, Risingsvej 132\, 5240\, Denmark
ORGANIZER;CN="game":MAILTO:Soa@Game.ngo
END:VEVENT
BEGIN:VEVENT
DTSTART;TZID=Europe/Copenhagen:20260316T130000
DTEND;TZID=Europe/Copenhagen:20260316T150000
DTSTAMP:20260423T190112
CREATED:20250625T121652Z
LAST-MODIFIED:20250625T121652Z
UID:10002337-1773666000-1773673200@respekt.ngo
SUMMARY:Stolegymnastik
DESCRIPTION:Stolegymnastik er for alle\, men især:\nÆldre\, der ønsker at bevare funktionsevnen\nPersoner med fysiske begrænsninger eller sygdomme som gigt\, KOL\nMennesker under genoptræning efter fx operation eller skade
URL:https://respekt.ngo/event/stolegymnastik/2026-03-16/
LOCATION:Workshop Rum
ATTACH;FMTTYPE=image/jpeg:https://respekt.ngo/wp-content/uploads/2025/05/2f2773a9-426a-4ddd-9407-f48e2c23c6f8.jpeg
END:VEVENT
BEGIN:VEVENT
DTSTART;TZID=Europe/Copenhagen:20260316T100000
DTEND;TZID=Europe/Copenhagen:20260316T130000
DTSTAMP:20260423T190112
CREATED:20250625T123354Z
LAST-MODIFIED:20250625T123354Z
UID:10002973-1773655200-1773666000@respekt.ngo
SUMMARY:VUC Sundhedsdansk
DESCRIPTION:Alle kan deltage!\nNår du går til sundhedsdansk\, lærer du at tale om kroppen\, sundhed og sygdom uden tolk.\nDu kommer også til at arbejde med emner som børn\, familie og skole. Der er 6 timers undervisning fordelt på 2 dage om ugen i 3 måneder.
URL:https://respekt.ngo/event/vuc-sundhedsdansk/2026-03-16/
LOCATION:Workshop Rum
ATTACH;FMTTYPE=image/jpeg:https://respekt.ngo/wp-content/uploads/2024/09/vuc_logo_pri_p355c_100mm-1.jpg
ORGANIZER;CN="VUC FYN":MAILTO:awj@vucfyn.dk
END:VEVENT
BEGIN:VEVENT
DTSTART;TZID=Europe/Copenhagen:20260315T140000
DTEND;TZID=Europe/Copenhagen:20260315T170000
DTSTAMP:20260423T190112
CREATED:20251002T070823Z
LAST-MODIFIED:20251002T103328Z
UID:10004165-1773583200-1773594000@respekt.ngo
SUMMARY:Kurdisk ungdom – Dans
DESCRIPTION:Vi mødes i Kurdisk ungdom\, alleer velkomne\, gruppen er for dig der er mellem 15-30 år. Vi danser kurdisk folkedans og hygger os sammen.
URL:https://respekt.ngo/event/kurdisk-ungdom-dans/2026-03-15/
LOCATION:Workshop Rum
END:VEVENT
BEGIN:VEVENT
DTSTART;TZID=Europe/Copenhagen:20260313T160000
DTEND;TZID=Europe/Copenhagen:20260313T200000
DTSTAMP:20260423T190112
CREATED:20250629T191734Z
LAST-MODIFIED:20250629T191734Z
UID:10003727-1773417600-1773432000@respekt.ngo
SUMMARY:Ung kurdisk dansegruppe
DESCRIPTION:Danse gruppe/Røde Sol Kulturforening
URL:https://respekt.ngo/event/ung-danse-gruppe-2/2026-03-13/
LOCATION:Workshop Rum
ATTACH;FMTTYPE=image/jpeg:https://respekt.ngo/wp-content/uploads/2025/05/IMG-20250509-WA0016.jpg
END:VEVENT
BEGIN:VEVENT
DTSTART;TZID=Europe/Copenhagen:20260312T140000
DTEND;TZID=Europe/Copenhagen:20260312T163000
DTSTAMP:20260423T190112
CREATED:20251009T123953Z
LAST-MODIFIED:20251023T152951Z
UID:10004459-1773324000-1773333000@respekt.ngo
SUMMARY:AOF danskundervisning
DESCRIPTION:FVU-dansk \nTrin 1 er for dig\, der gerne vil begynde forfra med staveregler og grammatik.\nTrin 2 er for dig\, der vil arbejde mere med grammatik. Du lærer for eksempel om ordenes endelser\, om stumme bogstaver\, og du læser og skrive små tekster.\nTrin 3 Her finpudser du grammatikken\, og du læser og skriver forskellige typer af tekster.\nTrin 4 Du læser og skriver fagtekster\, og du kan bruge trin 4\, hvis du vil forberede dig på et studie.\nFør du begynder på undervisning\, får du lavet en læse-skrive-test\, der viser hvilket trin\, du bør gå på. Hvert trin varer 40-80 undervisningstimer. \nEfter hvert trin kan du gå til en skriftlig prøve. Du bestemmer selv\, om du vil gå til prøven. \nDu får et bevis for hvert trin\, du har gennemført.
URL:https://respekt.ngo/event/aof-danskundervisning-2/2026-03-12/
LOCATION:Workshop Rum
ORGANIZER;CN="Boligsocialt Hus":MAILTO:kahf@boligsocialthus.dk
END:VEVENT
BEGIN:VEVENT
DTSTART;TZID=Europe/Copenhagen:20260312T130000
DTEND;TZID=Europe/Copenhagen:20260312T140000
DTSTAMP:20260423T190112
CREATED:20250819T005107Z
LAST-MODIFIED:20250819T005107Z
UID:10004084-1773320400-1773324000@respekt.ngo
SUMMARY:Gymnastik med SDU
DESCRIPTION:Gymnastik med trænere fra universitet
URL:https://respekt.ngo/event/gymnastik-med-sdu/2026-03-12/
LOCATION:Workshop Rum
ORGANIZER;CN="R%C3%B8de Sol Kulturforening":MAILTO:gulshan@live.dk
END:VEVENT
BEGIN:VEVENT
DTSTART;TZID=Europe/Copenhagen:20260311T170000
DTEND;TZID=Europe/Copenhagen:20260311T190000
DTSTAMP:20260423T190112
CREATED:20250624T231042Z
LAST-MODIFIED:20250625T121000Z
UID:10001164-1773248400-1773255600@respekt.ngo
SUMMARY:Lektiehjælp
DESCRIPTION:SSO afholder ugentlig lektiehjælp hver onsdag fra 17-19.
URL:https://respekt.ngo/event/lektiehjaelp/2026-03-11/
LOCATION:Workshop Rum
ATTACH;FMTTYPE=image/png:https://respekt.ngo/wp-content/uploads/2025/01/SSO-logo.png
ORGANIZER;CN="Somalisk Studenterorganisation":MAILTO:ssoodense@gmail.com
END:VEVENT
BEGIN:VEVENT
DTSTART;TZID=Europe/Copenhagen:20260311T100000
DTEND;TZID=Europe/Copenhagen:20260311T130000
DTSTAMP:20260423T190112
CREATED:20250625T123354Z
LAST-MODIFIED:20250625T123354Z
UID:10002972-1773223200-1773234000@respekt.ngo
SUMMARY:VUC Sundhedsdansk
DESCRIPTION:Alle kan deltage!\nNår du går til sundhedsdansk\, lærer du at tale om kroppen\, sundhed og sygdom uden tolk.\nDu kommer også til at arbejde med emner som børn\, familie og skole. Der er 6 timers undervisning fordelt på 2 dage om ugen i 3 måneder.
URL:https://respekt.ngo/event/vuc-sundhedsdansk/2026-03-11/
LOCATION:Workshop Rum
ATTACH;FMTTYPE=image/jpeg:https://respekt.ngo/wp-content/uploads/2024/09/vuc_logo_pri_p355c_100mm-1.jpg
ORGANIZER;CN="VUC FYN":MAILTO:awj@vucfyn.dk
END:VEVENT
BEGIN:VEVENT
DTSTART;TZID=Europe/Copenhagen:20260310T160000
DTEND;TZID=Europe/Copenhagen:20260310T203000
DTSTAMP:20260423T190112
CREATED:20260223T182802Z
LAST-MODIFIED:20260226T120009Z
UID:10005039-1773158400-1773174600@respekt.ngo
SUMMARY:Vollsmose Ungefællesskab
DESCRIPTION:Formålet med ungefællesskabet er at aktivere unge fra Vollsmose\, og understøtte dem\, så de kan involvere sig i positive handlingsfælleskaber\, hvor de får mod på og lyst til at engagere sig i deres lokalområde\, spise sammen og være med til at planlægge ungeaktiviteter for andre unge. \nArrangementet er internt.
URL:https://respekt.ngo/event/vollsmose-ungefaellesskab-17/2026-03-10/
LOCATION:Cafe Rum\, Risingsvej 132\, 5240\, Denmark
ORGANIZER;CN="Mellemfolkeligt Samvirke":MAILTO:ieh@ms.dk
END:VEVENT
BEGIN:VEVENT
DTSTART;TZID=Europe/Copenhagen:20260310T120000
DTEND;TZID=Europe/Copenhagen:20260310T143000
DTSTAMP:20260423T190112
CREATED:20260113T131905Z
LAST-MODIFIED:20260113T131905Z
UID:10004927-1773144000-1773153000@respekt.ngo
SUMMARY:AOF engelskundervisning
DESCRIPTION:Styrk dine sproglige færdigheder på engelsk\nPå det danske arbejdsmarked fylder det engelske sprog mere og mere. Derfor bliver det for mange efterhånden væsentligt at være i stand til at forstå og kommunikere på engelsk. På FVU-engelsk lærer du at tale\, forstå\, læse og skrive på engelsk. Kurset er til dig\, der vil styrke og opbygge dine sproglige færdigheder på engelsk\, så du kan bruge det både i dit arbejds- og privatliv. \nUndervisningen er gratis\, og der kan søges om SVU (Statens Vok­se­nud­dan­nel­ses­støt­te).
URL:https://respekt.ngo/event/aof-engelskundervisning-2/2026-03-10/
LOCATION:Workshop Rum
ORGANIZER;CN="Boligsocialt Hus":MAILTO:kahf@boligsocialthus.dk
END:VEVENT
BEGIN:VEVENT
DTSTART;TZID=Europe/Copenhagen:20260309T130000
DTEND;TZID=Europe/Copenhagen:20260309T150000
DTSTAMP:20260423T190112
CREATED:20250625T121652Z
LAST-MODIFIED:20250625T121652Z
UID:10002336-1773061200-1773068400@respekt.ngo
SUMMARY:Stolegymnastik
DESCRIPTION:Stolegymnastik er for alle\, men især:\nÆldre\, der ønsker at bevare funktionsevnen\nPersoner med fysiske begrænsninger eller sygdomme som gigt\, KOL\nMennesker under genoptræning efter fx operation eller skade
URL:https://respekt.ngo/event/stolegymnastik/2026-03-09/
LOCATION:Workshop Rum
ATTACH;FMTTYPE=image/jpeg:https://respekt.ngo/wp-content/uploads/2025/05/2f2773a9-426a-4ddd-9407-f48e2c23c6f8.jpeg
END:VEVENT
BEGIN:VEVENT
DTSTART;TZID=Europe/Copenhagen:20260309T100000
DTEND;TZID=Europe/Copenhagen:20260309T130000
DTSTAMP:20260423T190112
CREATED:20250625T123354Z
LAST-MODIFIED:20250625T123354Z
UID:10002971-1773050400-1773061200@respekt.ngo
SUMMARY:VUC Sundhedsdansk
DESCRIPTION:Alle kan deltage!\nNår du går til sundhedsdansk\, lærer du at tale om kroppen\, sundhed og sygdom uden tolk.\nDu kommer også til at arbejde med emner som børn\, familie og skole. Der er 6 timers undervisning fordelt på 2 dage om ugen i 3 måneder.
URL:https://respekt.ngo/event/vuc-sundhedsdansk/2026-03-09/
LOCATION:Workshop Rum
ATTACH;FMTTYPE=image/jpeg:https://respekt.ngo/wp-content/uploads/2024/09/vuc_logo_pri_p355c_100mm-1.jpg
ORGANIZER;CN="VUC FYN":MAILTO:awj@vucfyn.dk
END:VEVENT
BEGIN:VEVENT
DTSTART;TZID=Europe/Copenhagen:20260308T140000
DTEND;TZID=Europe/Copenhagen:20260308T170000
DTSTAMP:20260423T190112
CREATED:20251002T070823Z
LAST-MODIFIED:20251002T103328Z
UID:10004164-1772978400-1772989200@respekt.ngo
SUMMARY:Kurdisk ungdom – Dans
DESCRIPTION:Vi mødes i Kurdisk ungdom\, alleer velkomne\, gruppen er for dig der er mellem 15-30 år. Vi danser kurdisk folkedans og hygger os sammen.
URL:https://respekt.ngo/event/kurdisk-ungdom-dans/2026-03-08/
LOCATION:Workshop Rum
END:VEVENT
BEGIN:VEVENT
DTSTART;TZID=Europe/Copenhagen:20260307T140000
DTEND;TZID=Europe/Copenhagen:20260307T180000
DTSTAMP:20260423T190112
CREATED:20260303T074936Z
LAST-MODIFIED:20260303T074936Z
UID:10005044-1772892000-1772906400@respekt.ngo
SUMMARY:Vollsmose ungefællesskab
DESCRIPTION:Formålet med ungefællesskabet er at aktivere unge fra Vollsmose\, og understøtte dem\, så de kan involvere sig i positive handlingsfælleskaber\, hvor de får mod på og lyst til at engagere sig i deres lokalområde\, spise sammen og være med til at planlægge ungeaktiviteter for andre unge. \nArrangementet er internt.
URL:https://respekt.ngo/event/vollsmose-ungefaellesskab-18/2026-03-07/
LOCATION:Cafe Rum\, Risingsvej 132\, 5240\, Denmark
ORGANIZER;CN="Mellemfolkeligt Samvirke":MAILTO:ieh@ms.dk
END:VEVENT
BEGIN:VEVENT
DTSTART;TZID=Europe/Copenhagen:20260306T160000
DTEND;TZID=Europe/Copenhagen:20260306T200000
DTSTAMP:20260423T190112
CREATED:20250629T191734Z
LAST-MODIFIED:20250629T191734Z
UID:10003726-1772812800-1772827200@respekt.ngo
SUMMARY:Ung kurdisk dansegruppe
DESCRIPTION:Danse gruppe/Røde Sol Kulturforening
URL:https://respekt.ngo/event/ung-danse-gruppe-2/2026-03-06/
LOCATION:Workshop Rum
ATTACH;FMTTYPE=image/jpeg:https://respekt.ngo/wp-content/uploads/2025/05/IMG-20250509-WA0016.jpg
END:VEVENT
BEGIN:VEVENT
DTSTART;TZID=Europe/Copenhagen:20260305T140000
DTEND;TZID=Europe/Copenhagen:20260305T163000
DTSTAMP:20260423T190112
CREATED:20251009T123953Z
LAST-MODIFIED:20251023T152951Z
UID:10004458-1772719200-1772728200@respekt.ngo
SUMMARY:AOF danskundervisning
DESCRIPTION:FVU-dansk \nTrin 1 er for dig\, der gerne vil begynde forfra med staveregler og grammatik.\nTrin 2 er for dig\, der vil arbejde mere med grammatik. Du lærer for eksempel om ordenes endelser\, om stumme bogstaver\, og du læser og skrive små tekster.\nTrin 3 Her finpudser du grammatikken\, og du læser og skriver forskellige typer af tekster.\nTrin 4 Du læser og skriver fagtekster\, og du kan bruge trin 4\, hvis du vil forberede dig på et studie.\nFør du begynder på undervisning\, får du lavet en læse-skrive-test\, der viser hvilket trin\, du bør gå på. Hvert trin varer 40-80 undervisningstimer. \nEfter hvert trin kan du gå til en skriftlig prøve. Du bestemmer selv\, om du vil gå til prøven. \nDu får et bevis for hvert trin\, du har gennemført.
URL:https://respekt.ngo/event/aof-danskundervisning-2/2026-03-05/
LOCATION:Workshop Rum
ORGANIZER;CN="Boligsocialt Hus":MAILTO:kahf@boligsocialthus.dk
END:VEVENT
BEGIN:VEVENT
DTSTART;TZID=Europe/Copenhagen:20260305T130000
DTEND;TZID=Europe/Copenhagen:20260305T140000
DTSTAMP:20260423T190112
CREATED:20250819T005107Z
LAST-MODIFIED:20250819T005107Z
UID:10004083-1772715600-1772719200@respekt.ngo
SUMMARY:Gymnastik med SDU
DESCRIPTION:Gymnastik med trænere fra universitet
URL:https://respekt.ngo/event/gymnastik-med-sdu/2026-03-05/
LOCATION:Workshop Rum
ORGANIZER;CN="R%C3%B8de Sol Kulturforening":MAILTO:gulshan@live.dk
END:VEVENT
BEGIN:VEVENT
DTSTART;TZID=Europe/Copenhagen:20260304T170000
DTEND;TZID=Europe/Copenhagen:20260304T190000
DTSTAMP:20260423T190112
CREATED:20250624T231042Z
LAST-MODIFIED:20250625T121000Z
UID:10001163-1772643600-1772650800@respekt.ngo
SUMMARY:Lektiehjælp
DESCRIPTION:SSO afholder ugentlig lektiehjælp hver onsdag fra 17-19.
URL:https://respekt.ngo/event/lektiehjaelp/2026-03-04/
LOCATION:Workshop Rum
ATTACH;FMTTYPE=image/png:https://respekt.ngo/wp-content/uploads/2025/01/SSO-logo.png
ORGANIZER;CN="Somalisk Studenterorganisation":MAILTO:ssoodense@gmail.com
END:VEVENT
BEGIN:VEVENT
DTSTART;TZID=Europe/Copenhagen:20260304T100000
DTEND;TZID=Europe/Copenhagen:20260304T130000
DTSTAMP:20260423T190112
CREATED:20250625T123354Z
LAST-MODIFIED:20250625T123354Z
UID:10002970-1772618400-1772629200@respekt.ngo
SUMMARY:VUC Sundhedsdansk
DESCRIPTION:Alle kan deltage!\nNår du går til sundhedsdansk\, lærer du at tale om kroppen\, sundhed og sygdom uden tolk.\nDu kommer også til at arbejde med emner som børn\, familie og skole. Der er 6 timers undervisning fordelt på 2 dage om ugen i 3 måneder.
URL:https://respekt.ngo/event/vuc-sundhedsdansk/2026-03-04/
LOCATION:Workshop Rum
ATTACH;FMTTYPE=image/jpeg:https://respekt.ngo/wp-content/uploads/2024/09/vuc_logo_pri_p355c_100mm-1.jpg
ORGANIZER;CN="VUC FYN":MAILTO:awj@vucfyn.dk
END:VEVENT
END:VCALENDAR