BEGIN:VCALENDAR
VERSION:2.0
PRODID:-//Foreningen Respekt - ECPv6.14.0//NONSGML v1.0//EN
CALSCALE:GREGORIAN
METHOD:PUBLISH
X-WR-CALNAME:Foreningen Respekt
X-ORIGINAL-URL:https://respekt.ngo
X-WR-CALDESC:Begivenheder for Foreningen Respekt
REFRESH-INTERVAL;VALUE=DURATION:PT1H
X-Robots-Tag:noindex
X-PUBLISHED-TTL:PT1H
BEGIN:VTIMEZONE
TZID:Europe/Copenhagen
BEGIN:DAYLIGHT
TZOFFSETFROM:+0100
TZOFFSETTO:+0200
TZNAME:CEST
DTSTART:20260329T010000
END:DAYLIGHT
BEGIN:STANDARD
TZOFFSETFROM:+0200
TZOFFSETTO:+0100
TZNAME:CET
DTSTART:20261025T010000
END:STANDARD
END:VTIMEZONE
BEGIN:VEVENT
DTSTART;TZID=Europe/Copenhagen:20260408T170000
DTEND;TZID=Europe/Copenhagen:20260408T190000
DTSTAMP:20260423T163556
CREATED:20250624T231042Z
LAST-MODIFIED:20250625T121000Z
UID:10001168-1775667600-1775674800@respekt.ngo
SUMMARY:Lektiehjælp
DESCRIPTION:SSO afholder ugentlig lektiehjælp hver onsdag fra 17-19.
URL:https://respekt.ngo/event/lektiehjaelp/2026-04-08/
LOCATION:Workshop Rum
ATTACH;FMTTYPE=image/png:https://respekt.ngo/wp-content/uploads/2025/01/SSO-logo.png
ORGANIZER;CN="Somalisk Studenterorganisation":MAILTO:ssoodense@gmail.com
END:VEVENT
BEGIN:VEVENT
DTSTART;TZID=Europe/Copenhagen:20260408T100000
DTEND;TZID=Europe/Copenhagen:20260408T130000
DTSTAMP:20260423T163556
CREATED:20250625T123354Z
LAST-MODIFIED:20250625T123354Z
UID:10002980-1775642400-1775653200@respekt.ngo
SUMMARY:VUC Sundhedsdansk
DESCRIPTION:Alle kan deltage!\nNår du går til sundhedsdansk\, lærer du at tale om kroppen\, sundhed og sygdom uden tolk.\nDu kommer også til at arbejde med emner som børn\, familie og skole. Der er 6 timers undervisning fordelt på 2 dage om ugen i 3 måneder.
URL:https://respekt.ngo/event/vuc-sundhedsdansk/2026-04-08/
LOCATION:Workshop Rum
ATTACH;FMTTYPE=image/jpeg:https://respekt.ngo/wp-content/uploads/2024/09/vuc_logo_pri_p355c_100mm-1.jpg
ORGANIZER;CN="VUC FYN":MAILTO:awj@vucfyn.dk
END:VEVENT
BEGIN:VEVENT
DTSTART;TZID=Europe/Copenhagen:20260407T120000
DTEND;TZID=Europe/Copenhagen:20260407T143000
DTSTAMP:20260423T163556
CREATED:20260113T131905Z
LAST-MODIFIED:20260113T131905Z
UID:10004931-1775563200-1775572200@respekt.ngo
SUMMARY:AOF engelskundervisning
DESCRIPTION:Styrk dine sproglige færdigheder på engelsk\nPå det danske arbejdsmarked fylder det engelske sprog mere og mere. Derfor bliver det for mange efterhånden væsentligt at være i stand til at forstå og kommunikere på engelsk. På FVU-engelsk lærer du at tale\, forstå\, læse og skrive på engelsk. Kurset er til dig\, der vil styrke og opbygge dine sproglige færdigheder på engelsk\, så du kan bruge det både i dit arbejds- og privatliv. \nUndervisningen er gratis\, og der kan søges om SVU (Statens Vok­se­nud­dan­nel­ses­støt­te).
URL:https://respekt.ngo/event/aof-engelskundervisning-2/2026-04-07/
LOCATION:Workshop Rum
ORGANIZER;CN="Boligsocialt Hus":MAILTO:kahf@boligsocialthus.dk
END:VEVENT
BEGIN:VEVENT
DTSTART;TZID=Europe/Copenhagen:20260406T170000
DTEND;TZID=Europe/Copenhagen:20260406T190000
DTSTAMP:20260423T163556
CREATED:20260201T134729Z
LAST-MODIFIED:20260201T134729Z
UID:10005024-1775494800-1775502000@respekt.ngo
SUMMARY:GAME Girl Zone
DESCRIPTION:Game  Girl Zone er for alle piger\, der har lyst\, i alderen 10-16 år.
URL:https://respekt.ngo/event/game-girl-zone-8/
LOCATION:Cafe Rum\, Risingsvej 132\, 5240\, Denmark
ORGANIZER;CN="game":MAILTO:Soa@Game.ngo
END:VEVENT
BEGIN:VEVENT
DTSTART;TZID=Europe/Copenhagen:20260406T130000
DTEND;TZID=Europe/Copenhagen:20260406T150000
DTSTAMP:20260423T163556
CREATED:20250625T121652Z
LAST-MODIFIED:20250625T121652Z
UID:10002340-1775480400-1775487600@respekt.ngo
SUMMARY:Stolegymnastik
DESCRIPTION:Stolegymnastik er for alle\, men især:\nÆldre\, der ønsker at bevare funktionsevnen\nPersoner med fysiske begrænsninger eller sygdomme som gigt\, KOL\nMennesker under genoptræning efter fx operation eller skade
URL:https://respekt.ngo/event/stolegymnastik/2026-04-06/
LOCATION:Workshop Rum
ATTACH;FMTTYPE=image/jpeg:https://respekt.ngo/wp-content/uploads/2025/05/2f2773a9-426a-4ddd-9407-f48e2c23c6f8.jpeg
END:VEVENT
BEGIN:VEVENT
DTSTART;TZID=Europe/Copenhagen:20260406T100000
DTEND;TZID=Europe/Copenhagen:20260406T130000
DTSTAMP:20260423T163556
CREATED:20250625T123354Z
LAST-MODIFIED:20250625T123354Z
UID:10002979-1775469600-1775480400@respekt.ngo
SUMMARY:VUC Sundhedsdansk
DESCRIPTION:Alle kan deltage!\nNår du går til sundhedsdansk\, lærer du at tale om kroppen\, sundhed og sygdom uden tolk.\nDu kommer også til at arbejde med emner som børn\, familie og skole. Der er 6 timers undervisning fordelt på 2 dage om ugen i 3 måneder.
URL:https://respekt.ngo/event/vuc-sundhedsdansk/2026-04-06/
LOCATION:Workshop Rum
ATTACH;FMTTYPE=image/jpeg:https://respekt.ngo/wp-content/uploads/2024/09/vuc_logo_pri_p355c_100mm-1.jpg
ORGANIZER;CN="VUC FYN":MAILTO:awj@vucfyn.dk
END:VEVENT
BEGIN:VEVENT
DTSTART;TZID=Europe/Copenhagen:20260405T140000
DTEND;TZID=Europe/Copenhagen:20260405T170000
DTSTAMP:20260423T163556
CREATED:20251002T070823Z
LAST-MODIFIED:20251002T103328Z
UID:10004168-1775397600-1775408400@respekt.ngo
SUMMARY:Kurdisk ungdom – Dans
DESCRIPTION:Vi mødes i Kurdisk ungdom\, alleer velkomne\, gruppen er for dig der er mellem 15-30 år. Vi danser kurdisk folkedans og hygger os sammen.
URL:https://respekt.ngo/event/kurdisk-ungdom-dans/2026-04-05/
LOCATION:Workshop Rum
END:VEVENT
BEGIN:VEVENT
DTSTART;TZID=Europe/Copenhagen:20260403T160000
DTEND;TZID=Europe/Copenhagen:20260403T200000
DTSTAMP:20260423T163556
CREATED:20250629T191734Z
LAST-MODIFIED:20250629T191734Z
UID:10003730-1775232000-1775246400@respekt.ngo
SUMMARY:Ung kurdisk dansegruppe
DESCRIPTION:Danse gruppe/Røde Sol Kulturforening
URL:https://respekt.ngo/event/ung-danse-gruppe-2/2026-04-03/
LOCATION:Workshop Rum
ATTACH;FMTTYPE=image/jpeg:https://respekt.ngo/wp-content/uploads/2025/05/IMG-20250509-WA0016.jpg
END:VEVENT
BEGIN:VEVENT
DTSTART;TZID=Europe/Copenhagen:20260402T140000
DTEND;TZID=Europe/Copenhagen:20260402T163000
DTSTAMP:20260423T163556
CREATED:20251009T123953Z
LAST-MODIFIED:20251023T152951Z
UID:10004462-1775138400-1775147400@respekt.ngo
SUMMARY:AOF danskundervisning
DESCRIPTION:FVU-dansk \nTrin 1 er for dig\, der gerne vil begynde forfra med staveregler og grammatik.\nTrin 2 er for dig\, der vil arbejde mere med grammatik. Du lærer for eksempel om ordenes endelser\, om stumme bogstaver\, og du læser og skrive små tekster.\nTrin 3 Her finpudser du grammatikken\, og du læser og skriver forskellige typer af tekster.\nTrin 4 Du læser og skriver fagtekster\, og du kan bruge trin 4\, hvis du vil forberede dig på et studie.\nFør du begynder på undervisning\, får du lavet en læse-skrive-test\, der viser hvilket trin\, du bør gå på. Hvert trin varer 40-80 undervisningstimer. \nEfter hvert trin kan du gå til en skriftlig prøve. Du bestemmer selv\, om du vil gå til prøven. \nDu får et bevis for hvert trin\, du har gennemført.
URL:https://respekt.ngo/event/aof-danskundervisning-2/2026-04-02/
LOCATION:Workshop Rum
ORGANIZER;CN="Boligsocialt Hus":MAILTO:kahf@boligsocialthus.dk
END:VEVENT
BEGIN:VEVENT
DTSTART;TZID=Europe/Copenhagen:20260402T130000
DTEND;TZID=Europe/Copenhagen:20260402T140000
DTSTAMP:20260423T163556
CREATED:20250819T005107Z
LAST-MODIFIED:20250819T005107Z
UID:10004087-1775134800-1775138400@respekt.ngo
SUMMARY:Gymnastik med SDU
DESCRIPTION:Gymnastik med trænere fra universitet
URL:https://respekt.ngo/event/gymnastik-med-sdu/2026-04-02/
LOCATION:Workshop Rum
ORGANIZER;CN="R%C3%B8de Sol Kulturforening":MAILTO:gulshan@live.dk
END:VEVENT
BEGIN:VEVENT
DTSTART;TZID=Europe/Copenhagen:20260401T170000
DTEND;TZID=Europe/Copenhagen:20260401T190000
DTSTAMP:20260423T163556
CREATED:20250624T231042Z
LAST-MODIFIED:20250625T121000Z
UID:10001167-1775062800-1775070000@respekt.ngo
SUMMARY:Lektiehjælp
DESCRIPTION:SSO afholder ugentlig lektiehjælp hver onsdag fra 17-19.
URL:https://respekt.ngo/event/lektiehjaelp/2026-04-01/
LOCATION:Workshop Rum
ATTACH;FMTTYPE=image/png:https://respekt.ngo/wp-content/uploads/2025/01/SSO-logo.png
ORGANIZER;CN="Somalisk Studenterorganisation":MAILTO:ssoodense@gmail.com
END:VEVENT
BEGIN:VEVENT
DTSTART;TZID=Europe/Copenhagen:20260401T100000
DTEND;TZID=Europe/Copenhagen:20260401T130000
DTSTAMP:20260423T163556
CREATED:20250625T123354Z
LAST-MODIFIED:20250625T123354Z
UID:10002978-1775037600-1775048400@respekt.ngo
SUMMARY:VUC Sundhedsdansk
DESCRIPTION:Alle kan deltage!\nNår du går til sundhedsdansk\, lærer du at tale om kroppen\, sundhed og sygdom uden tolk.\nDu kommer også til at arbejde med emner som børn\, familie og skole. Der er 6 timers undervisning fordelt på 2 dage om ugen i 3 måneder.
URL:https://respekt.ngo/event/vuc-sundhedsdansk/2026-04-01/
LOCATION:Workshop Rum
ATTACH;FMTTYPE=image/jpeg:https://respekt.ngo/wp-content/uploads/2024/09/vuc_logo_pri_p355c_100mm-1.jpg
ORGANIZER;CN="VUC FYN":MAILTO:awj@vucfyn.dk
END:VEVENT
BEGIN:VEVENT
DTSTART;TZID=Europe/Copenhagen:20260331T120000
DTEND;TZID=Europe/Copenhagen:20260331T143000
DTSTAMP:20260423T163556
CREATED:20260113T131905Z
LAST-MODIFIED:20260113T131905Z
UID:10004930-1774958400-1774967400@respekt.ngo
SUMMARY:AOF engelskundervisning
DESCRIPTION:Styrk dine sproglige færdigheder på engelsk\nPå det danske arbejdsmarked fylder det engelske sprog mere og mere. Derfor bliver det for mange efterhånden væsentligt at være i stand til at forstå og kommunikere på engelsk. På FVU-engelsk lærer du at tale\, forstå\, læse og skrive på engelsk. Kurset er til dig\, der vil styrke og opbygge dine sproglige færdigheder på engelsk\, så du kan bruge det både i dit arbejds- og privatliv. \nUndervisningen er gratis\, og der kan søges om SVU (Statens Vok­se­nud­dan­nel­ses­støt­te).
URL:https://respekt.ngo/event/aof-engelskundervisning-2/2026-03-31/
LOCATION:Workshop Rum
ORGANIZER;CN="Boligsocialt Hus":MAILTO:kahf@boligsocialthus.dk
END:VEVENT
BEGIN:VEVENT
DTSTART;TZID=Europe/Copenhagen:20260330T130000
DTEND;TZID=Europe/Copenhagen:20260330T150000
DTSTAMP:20260423T163556
CREATED:20250625T121652Z
LAST-MODIFIED:20250625T121652Z
UID:10002339-1774875600-1774882800@respekt.ngo
SUMMARY:Stolegymnastik
DESCRIPTION:Stolegymnastik er for alle\, men især:\nÆldre\, der ønsker at bevare funktionsevnen\nPersoner med fysiske begrænsninger eller sygdomme som gigt\, KOL\nMennesker under genoptræning efter fx operation eller skade
URL:https://respekt.ngo/event/stolegymnastik/2026-03-30/
LOCATION:Workshop Rum
ATTACH;FMTTYPE=image/jpeg:https://respekt.ngo/wp-content/uploads/2025/05/2f2773a9-426a-4ddd-9407-f48e2c23c6f8.jpeg
END:VEVENT
BEGIN:VEVENT
DTSTART;TZID=Europe/Copenhagen:20260330T100000
DTEND;TZID=Europe/Copenhagen:20260330T130000
DTSTAMP:20260423T163556
CREATED:20250625T123354Z
LAST-MODIFIED:20250625T123354Z
UID:10002977-1774864800-1774875600@respekt.ngo
SUMMARY:VUC Sundhedsdansk
DESCRIPTION:Alle kan deltage!\nNår du går til sundhedsdansk\, lærer du at tale om kroppen\, sundhed og sygdom uden tolk.\nDu kommer også til at arbejde med emner som børn\, familie og skole. Der er 6 timers undervisning fordelt på 2 dage om ugen i 3 måneder.
URL:https://respekt.ngo/event/vuc-sundhedsdansk/2026-03-30/
LOCATION:Workshop Rum
ATTACH;FMTTYPE=image/jpeg:https://respekt.ngo/wp-content/uploads/2024/09/vuc_logo_pri_p355c_100mm-1.jpg
ORGANIZER;CN="VUC FYN":MAILTO:awj@vucfyn.dk
END:VEVENT
BEGIN:VEVENT
DTSTART;TZID=Europe/Copenhagen:20260329T140000
DTEND;TZID=Europe/Copenhagen:20260329T170000
DTSTAMP:20260423T163556
CREATED:20251002T070823Z
LAST-MODIFIED:20251002T103328Z
UID:10004167-1774792800-1774803600@respekt.ngo
SUMMARY:Kurdisk ungdom – Dans
DESCRIPTION:Vi mødes i Kurdisk ungdom\, alleer velkomne\, gruppen er for dig der er mellem 15-30 år. Vi danser kurdisk folkedans og hygger os sammen.
URL:https://respekt.ngo/event/kurdisk-ungdom-dans/2026-03-29/
LOCATION:Workshop Rum
END:VEVENT
BEGIN:VEVENT
DTSTART;TZID=Europe/Copenhagen:20260327T160000
DTEND;TZID=Europe/Copenhagen:20260327T200000
DTSTAMP:20260423T163556
CREATED:20250629T191734Z
LAST-MODIFIED:20250629T191734Z
UID:10003729-1774627200-1774641600@respekt.ngo
SUMMARY:Ung kurdisk dansegruppe
DESCRIPTION:Danse gruppe/Røde Sol Kulturforening
URL:https://respekt.ngo/event/ung-danse-gruppe-2/2026-03-27/
LOCATION:Workshop Rum
ATTACH;FMTTYPE=image/jpeg:https://respekt.ngo/wp-content/uploads/2025/05/IMG-20250509-WA0016.jpg
END:VEVENT
BEGIN:VEVENT
DTSTART;TZID=Europe/Copenhagen:20260326T140000
DTEND;TZID=Europe/Copenhagen:20260326T163000
DTSTAMP:20260423T163556
CREATED:20251009T123953Z
LAST-MODIFIED:20251023T152951Z
UID:10004461-1774533600-1774542600@respekt.ngo
SUMMARY:AOF danskundervisning
DESCRIPTION:FVU-dansk \nTrin 1 er for dig\, der gerne vil begynde forfra med staveregler og grammatik.\nTrin 2 er for dig\, der vil arbejde mere med grammatik. Du lærer for eksempel om ordenes endelser\, om stumme bogstaver\, og du læser og skrive små tekster.\nTrin 3 Her finpudser du grammatikken\, og du læser og skriver forskellige typer af tekster.\nTrin 4 Du læser og skriver fagtekster\, og du kan bruge trin 4\, hvis du vil forberede dig på et studie.\nFør du begynder på undervisning\, får du lavet en læse-skrive-test\, der viser hvilket trin\, du bør gå på. Hvert trin varer 40-80 undervisningstimer. \nEfter hvert trin kan du gå til en skriftlig prøve. Du bestemmer selv\, om du vil gå til prøven. \nDu får et bevis for hvert trin\, du har gennemført.
URL:https://respekt.ngo/event/aof-danskundervisning-2/2026-03-26/
LOCATION:Workshop Rum
ORGANIZER;CN="Boligsocialt Hus":MAILTO:kahf@boligsocialthus.dk
END:VEVENT
BEGIN:VEVENT
DTSTART;TZID=Europe/Copenhagen:20260326T130000
DTEND;TZID=Europe/Copenhagen:20260326T140000
DTSTAMP:20260423T163556
CREATED:20250819T005107Z
LAST-MODIFIED:20250819T005107Z
UID:10004086-1774530000-1774533600@respekt.ngo
SUMMARY:Gymnastik med SDU
DESCRIPTION:Gymnastik med trænere fra universitet
URL:https://respekt.ngo/event/gymnastik-med-sdu/2026-03-26/
LOCATION:Workshop Rum
ORGANIZER;CN="R%C3%B8de Sol Kulturforening":MAILTO:gulshan@live.dk
END:VEVENT
BEGIN:VEVENT
DTSTART;TZID=Europe/Copenhagen:20260325T170000
DTEND;TZID=Europe/Copenhagen:20260325T190000
DTSTAMP:20260423T163556
CREATED:20250624T231042Z
LAST-MODIFIED:20250625T121000Z
UID:10001166-1774458000-1774465200@respekt.ngo
SUMMARY:Lektiehjælp
DESCRIPTION:SSO afholder ugentlig lektiehjælp hver onsdag fra 17-19.
URL:https://respekt.ngo/event/lektiehjaelp/2026-03-25/
LOCATION:Workshop Rum
ATTACH;FMTTYPE=image/png:https://respekt.ngo/wp-content/uploads/2025/01/SSO-logo.png
ORGANIZER;CN="Somalisk Studenterorganisation":MAILTO:ssoodense@gmail.com
END:VEVENT
BEGIN:VEVENT
DTSTART;TZID=Europe/Copenhagen:20260325T100000
DTEND;TZID=Europe/Copenhagen:20260325T130000
DTSTAMP:20260423T163556
CREATED:20250625T123354Z
LAST-MODIFIED:20250625T123354Z
UID:10002976-1774432800-1774443600@respekt.ngo
SUMMARY:VUC Sundhedsdansk
DESCRIPTION:Alle kan deltage!\nNår du går til sundhedsdansk\, lærer du at tale om kroppen\, sundhed og sygdom uden tolk.\nDu kommer også til at arbejde med emner som børn\, familie og skole. Der er 6 timers undervisning fordelt på 2 dage om ugen i 3 måneder.
URL:https://respekt.ngo/event/vuc-sundhedsdansk/2026-03-25/
LOCATION:Workshop Rum
ATTACH;FMTTYPE=image/jpeg:https://respekt.ngo/wp-content/uploads/2024/09/vuc_logo_pri_p355c_100mm-1.jpg
ORGANIZER;CN="VUC FYN":MAILTO:awj@vucfyn.dk
END:VEVENT
BEGIN:VEVENT
DTSTART;TZID=Europe/Copenhagen:20260324T143000
DTEND;TZID=Europe/Copenhagen:20260324T203000
DTSTAMP:20260423T163556
CREATED:20260223T182802Z
LAST-MODIFIED:20260226T120009Z
UID:10005042-1774362600-1774384200@respekt.ngo
SUMMARY:Vollsmose Ungefællesskab
DESCRIPTION:Formålet med ungefællesskabet er at aktivere unge fra Vollsmose\, og understøtte dem\, så de kan involvere sig i positive handlingsfælleskaber\, hvor de får mod på og lyst til at engagere sig i deres lokalområde\, spise sammen og være med til at planlægge ungeaktiviteter for andre unge. \nArrangementet er internt.
URL:https://respekt.ngo/event/vollsmose-ungefaellesskab-17/2026-03-24/
LOCATION:Cafe Rum\, Risingsvej 132\, 5240\, Denmark
ORGANIZER;CN="Mellemfolkeligt Samvirke":MAILTO:ieh@ms.dk
END:VEVENT
BEGIN:VEVENT
DTSTART;TZID=Europe/Copenhagen:20260324T120000
DTEND;TZID=Europe/Copenhagen:20260324T143000
DTSTAMP:20260423T163556
CREATED:20260113T131905Z
LAST-MODIFIED:20260113T131905Z
UID:10004929-1774353600-1774362600@respekt.ngo
SUMMARY:AOF engelskundervisning
DESCRIPTION:Styrk dine sproglige færdigheder på engelsk\nPå det danske arbejdsmarked fylder det engelske sprog mere og mere. Derfor bliver det for mange efterhånden væsentligt at være i stand til at forstå og kommunikere på engelsk. På FVU-engelsk lærer du at tale\, forstå\, læse og skrive på engelsk. Kurset er til dig\, der vil styrke og opbygge dine sproglige færdigheder på engelsk\, så du kan bruge det både i dit arbejds- og privatliv. \nUndervisningen er gratis\, og der kan søges om SVU (Statens Vok­se­nud­dan­nel­ses­støt­te).
URL:https://respekt.ngo/event/aof-engelskundervisning-2/2026-03-24/
LOCATION:Workshop Rum
ORGANIZER;CN="Boligsocialt Hus":MAILTO:kahf@boligsocialthus.dk
END:VEVENT
BEGIN:VEVENT
DTSTART;TZID=Europe/Copenhagen:20260323T170000
DTEND;TZID=Europe/Copenhagen:20260323T190000
DTSTAMP:20260423T163556
CREATED:20260201T134729Z
LAST-MODIFIED:20260201T134729Z
UID:10005022-1774285200-1774292400@respekt.ngo
SUMMARY:GAME Girl Zone
DESCRIPTION:Game  Girl Zone er for alle piger\, der har lyst\, i alderen 10-16 år.
URL:https://respekt.ngo/event/game-girl-zone-6/
LOCATION:Cafe Rum\, Risingsvej 132\, 5240\, Denmark
ORGANIZER;CN="game":MAILTO:Soa@Game.ngo
END:VEVENT
BEGIN:VEVENT
DTSTART;TZID=Europe/Copenhagen:20260323T130000
DTEND;TZID=Europe/Copenhagen:20260323T150000
DTSTAMP:20260423T163556
CREATED:20250625T121652Z
LAST-MODIFIED:20250625T121652Z
UID:10002338-1774270800-1774278000@respekt.ngo
SUMMARY:Stolegymnastik
DESCRIPTION:Stolegymnastik er for alle\, men især:\nÆldre\, der ønsker at bevare funktionsevnen\nPersoner med fysiske begrænsninger eller sygdomme som gigt\, KOL\nMennesker under genoptræning efter fx operation eller skade
URL:https://respekt.ngo/event/stolegymnastik/2026-03-23/
LOCATION:Workshop Rum
ATTACH;FMTTYPE=image/jpeg:https://respekt.ngo/wp-content/uploads/2025/05/2f2773a9-426a-4ddd-9407-f48e2c23c6f8.jpeg
END:VEVENT
BEGIN:VEVENT
DTSTART;TZID=Europe/Copenhagen:20260323T100000
DTEND;TZID=Europe/Copenhagen:20260323T130000
DTSTAMP:20260423T163556
CREATED:20250625T123354Z
LAST-MODIFIED:20250625T123354Z
UID:10002975-1774260000-1774270800@respekt.ngo
SUMMARY:VUC Sundhedsdansk
DESCRIPTION:Alle kan deltage!\nNår du går til sundhedsdansk\, lærer du at tale om kroppen\, sundhed og sygdom uden tolk.\nDu kommer også til at arbejde med emner som børn\, familie og skole. Der er 6 timers undervisning fordelt på 2 dage om ugen i 3 måneder.
URL:https://respekt.ngo/event/vuc-sundhedsdansk/2026-03-23/
LOCATION:Workshop Rum
ATTACH;FMTTYPE=image/jpeg:https://respekt.ngo/wp-content/uploads/2024/09/vuc_logo_pri_p355c_100mm-1.jpg
ORGANIZER;CN="VUC FYN":MAILTO:awj@vucfyn.dk
END:VEVENT
BEGIN:VEVENT
DTSTART;TZID=Europe/Copenhagen:20260322T140000
DTEND;TZID=Europe/Copenhagen:20260322T170000
DTSTAMP:20260423T163556
CREATED:20251002T070823Z
LAST-MODIFIED:20251002T103328Z
UID:10004166-1774188000-1774198800@respekt.ngo
SUMMARY:Kurdisk ungdom – Dans
DESCRIPTION:Vi mødes i Kurdisk ungdom\, alleer velkomne\, gruppen er for dig der er mellem 15-30 år. Vi danser kurdisk folkedans og hygger os sammen.
URL:https://respekt.ngo/event/kurdisk-ungdom-dans/2026-03-22/
LOCATION:Workshop Rum
END:VEVENT
BEGIN:VEVENT
DTSTART;TZID=Europe/Copenhagen:20260320T160000
DTEND;TZID=Europe/Copenhagen:20260320T200000
DTSTAMP:20260423T163556
CREATED:20250629T191734Z
LAST-MODIFIED:20250629T191734Z
UID:10003728-1774022400-1774036800@respekt.ngo
SUMMARY:Ung kurdisk dansegruppe
DESCRIPTION:Danse gruppe/Røde Sol Kulturforening
URL:https://respekt.ngo/event/ung-danse-gruppe-2/2026-03-20/
LOCATION:Workshop Rum
ATTACH;FMTTYPE=image/jpeg:https://respekt.ngo/wp-content/uploads/2025/05/IMG-20250509-WA0016.jpg
END:VEVENT
BEGIN:VEVENT
DTSTART;TZID=Europe/Copenhagen:20260319T140000
DTEND;TZID=Europe/Copenhagen:20260319T163000
DTSTAMP:20260423T163556
CREATED:20251009T123953Z
LAST-MODIFIED:20251023T152951Z
UID:10004460-1773928800-1773937800@respekt.ngo
SUMMARY:AOF danskundervisning
DESCRIPTION:FVU-dansk \nTrin 1 er for dig\, der gerne vil begynde forfra med staveregler og grammatik.\nTrin 2 er for dig\, der vil arbejde mere med grammatik. Du lærer for eksempel om ordenes endelser\, om stumme bogstaver\, og du læser og skrive små tekster.\nTrin 3 Her finpudser du grammatikken\, og du læser og skriver forskellige typer af tekster.\nTrin 4 Du læser og skriver fagtekster\, og du kan bruge trin 4\, hvis du vil forberede dig på et studie.\nFør du begynder på undervisning\, får du lavet en læse-skrive-test\, der viser hvilket trin\, du bør gå på. Hvert trin varer 40-80 undervisningstimer. \nEfter hvert trin kan du gå til en skriftlig prøve. Du bestemmer selv\, om du vil gå til prøven. \nDu får et bevis for hvert trin\, du har gennemført.
URL:https://respekt.ngo/event/aof-danskundervisning-2/2026-03-19/
LOCATION:Workshop Rum
ORGANIZER;CN="Boligsocialt Hus":MAILTO:kahf@boligsocialthus.dk
END:VEVENT
BEGIN:VEVENT
DTSTART;TZID=Europe/Copenhagen:20260319T130000
DTEND;TZID=Europe/Copenhagen:20260319T140000
DTSTAMP:20260423T163556
CREATED:20250819T005107Z
LAST-MODIFIED:20250819T005107Z
UID:10004085-1773925200-1773928800@respekt.ngo
SUMMARY:Gymnastik med SDU
DESCRIPTION:Gymnastik med trænere fra universitet
URL:https://respekt.ngo/event/gymnastik-med-sdu/2026-03-19/
LOCATION:Workshop Rum
ORGANIZER;CN="R%C3%B8de Sol Kulturforening":MAILTO:gulshan@live.dk
END:VEVENT
END:VCALENDAR