BEGIN:VCALENDAR
VERSION:2.0
PRODID:-//Foreningen Respekt - ECPv6.14.0//NONSGML v1.0//EN
CALSCALE:GREGORIAN
METHOD:PUBLISH
X-WR-CALNAME:Foreningen Respekt
X-ORIGINAL-URL:https://respekt.ngo
X-WR-CALDESC:Begivenheder for Foreningen Respekt
REFRESH-INTERVAL;VALUE=DURATION:PT1H
X-Robots-Tag:noindex
X-PUBLISHED-TTL:PT1H
BEGIN:VTIMEZONE
TZID:Europe/Copenhagen
BEGIN:DAYLIGHT
TZOFFSETFROM:+0100
TZOFFSETTO:+0200
TZNAME:CEST
DTSTART:20260329T010000
END:DAYLIGHT
BEGIN:STANDARD
TZOFFSETFROM:+0200
TZOFFSETTO:+0100
TZNAME:CET
DTSTART:20261025T010000
END:STANDARD
END:VTIMEZONE
BEGIN:VEVENT
DTSTART;TZID=Europe/Copenhagen:20260423T130000
DTEND;TZID=Europe/Copenhagen:20260423T140000
DTSTAMP:20260423T130327
CREATED:20250819T005107Z
LAST-MODIFIED:20250819T005107Z
UID:10004090-1776949200-1776952800@respekt.ngo
SUMMARY:Gymnastik med SDU
DESCRIPTION:Gymnastik med trænere fra universitet
URL:https://respekt.ngo/event/gymnastik-med-sdu/2026-04-23/
LOCATION:Workshop Rum
ORGANIZER;CN="R%C3%B8de Sol Kulturforening":MAILTO:gulshan@live.dk
END:VEVENT
BEGIN:VEVENT
DTSTART;TZID=Europe/Copenhagen:20260423T140000
DTEND;TZID=Europe/Copenhagen:20260423T163000
DTSTAMP:20260423T130327
CREATED:20251009T123953Z
LAST-MODIFIED:20251023T152951Z
UID:10004465-1776952800-1776961800@respekt.ngo
SUMMARY:AOF danskundervisning
DESCRIPTION:FVU-dansk \nTrin 1 er for dig\, der gerne vil begynde forfra med staveregler og grammatik.\nTrin 2 er for dig\, der vil arbejde mere med grammatik. Du lærer for eksempel om ordenes endelser\, om stumme bogstaver\, og du læser og skrive små tekster.\nTrin 3 Her finpudser du grammatikken\, og du læser og skriver forskellige typer af tekster.\nTrin 4 Du læser og skriver fagtekster\, og du kan bruge trin 4\, hvis du vil forberede dig på et studie.\nFør du begynder på undervisning\, får du lavet en læse-skrive-test\, der viser hvilket trin\, du bør gå på. Hvert trin varer 40-80 undervisningstimer. \nEfter hvert trin kan du gå til en skriftlig prøve. Du bestemmer selv\, om du vil gå til prøven. \nDu får et bevis for hvert trin\, du har gennemført.
URL:https://respekt.ngo/event/aof-danskundervisning-2/2026-04-23/
LOCATION:Workshop Rum
ORGANIZER;CN="Boligsocialt Hus":MAILTO:kahf@boligsocialthus.dk
END:VEVENT
BEGIN:VEVENT
DTSTART;TZID=Europe/Copenhagen:20260424T160000
DTEND;TZID=Europe/Copenhagen:20260424T200000
DTSTAMP:20260423T130327
CREATED:20250629T191734Z
LAST-MODIFIED:20250629T191734Z
UID:10003733-1777046400-1777060800@respekt.ngo
SUMMARY:Ung kurdisk dansegruppe
DESCRIPTION:Danse gruppe/Røde Sol Kulturforening
URL:https://respekt.ngo/event/ung-danse-gruppe-2/2026-04-24/
LOCATION:Workshop Rum
ATTACH;FMTTYPE=image/jpeg:https://respekt.ngo/wp-content/uploads/2025/05/IMG-20250509-WA0016.jpg
END:VEVENT
BEGIN:VEVENT
DTSTART;TZID=Europe/Copenhagen:20260426T140000
DTEND;TZID=Europe/Copenhagen:20260426T170000
DTSTAMP:20260423T130327
CREATED:20251002T070823Z
LAST-MODIFIED:20251002T103328Z
UID:10004171-1777212000-1777222800@respekt.ngo
SUMMARY:Kurdisk ungdom – Dans
DESCRIPTION:Vi mødes i Kurdisk ungdom\, alleer velkomne\, gruppen er for dig der er mellem 15-30 år. Vi danser kurdisk folkedans og hygger os sammen.
URL:https://respekt.ngo/event/kurdisk-ungdom-dans/2026-04-26/
LOCATION:Workshop Rum
END:VEVENT
BEGIN:VEVENT
DTSTART;TZID=Europe/Copenhagen:20260427T100000
DTEND;TZID=Europe/Copenhagen:20260427T130000
DTSTAMP:20260423T130327
CREATED:20250625T123354Z
LAST-MODIFIED:20250625T123354Z
UID:10002985-1777284000-1777294800@respekt.ngo
SUMMARY:VUC Sundhedsdansk
DESCRIPTION:Alle kan deltage!\nNår du går til sundhedsdansk\, lærer du at tale om kroppen\, sundhed og sygdom uden tolk.\nDu kommer også til at arbejde med emner som børn\, familie og skole. Der er 6 timers undervisning fordelt på 2 dage om ugen i 3 måneder.
URL:https://respekt.ngo/event/vuc-sundhedsdansk/2026-04-27/
LOCATION:Workshop Rum
ATTACH;FMTTYPE=image/jpeg:https://respekt.ngo/wp-content/uploads/2024/09/vuc_logo_pri_p355c_100mm-1.jpg
ORGANIZER;CN="VUC FYN":MAILTO:awj@vucfyn.dk
END:VEVENT
BEGIN:VEVENT
DTSTART;TZID=Europe/Copenhagen:20260427T130000
DTEND;TZID=Europe/Copenhagen:20260427T150000
DTSTAMP:20260423T130327
CREATED:20250625T121652Z
LAST-MODIFIED:20250625T121652Z
UID:10002343-1777294800-1777302000@respekt.ngo
SUMMARY:Stolegymnastik
DESCRIPTION:Stolegymnastik er for alle\, men især:\nÆldre\, der ønsker at bevare funktionsevnen\nPersoner med fysiske begrænsninger eller sygdomme som gigt\, KOL\nMennesker under genoptræning efter fx operation eller skade
URL:https://respekt.ngo/event/stolegymnastik/2026-04-27/
LOCATION:Workshop Rum
ATTACH;FMTTYPE=image/jpeg:https://respekt.ngo/wp-content/uploads/2025/05/2f2773a9-426a-4ddd-9407-f48e2c23c6f8.jpeg
END:VEVENT
BEGIN:VEVENT
DTSTART;TZID=Europe/Copenhagen:20260428T120000
DTEND;TZID=Europe/Copenhagen:20260428T143000
DTSTAMP:20260423T130327
CREATED:20260113T131905Z
LAST-MODIFIED:20260113T131905Z
UID:10004934-1777377600-1777386600@respekt.ngo
SUMMARY:AOF engelskundervisning
DESCRIPTION:Styrk dine sproglige færdigheder på engelsk\nPå det danske arbejdsmarked fylder det engelske sprog mere og mere. Derfor bliver det for mange efterhånden væsentligt at være i stand til at forstå og kommunikere på engelsk. På FVU-engelsk lærer du at tale\, forstå\, læse og skrive på engelsk. Kurset er til dig\, der vil styrke og opbygge dine sproglige færdigheder på engelsk\, så du kan bruge det både i dit arbejds- og privatliv. \nUndervisningen er gratis\, og der kan søges om SVU (Statens Vok­se­nud­dan­nel­ses­støt­te).
URL:https://respekt.ngo/event/aof-engelskundervisning-2/2026-04-28/
LOCATION:Workshop Rum
ORGANIZER;CN="Boligsocialt Hus":MAILTO:kahf@boligsocialthus.dk
END:VEVENT
BEGIN:VEVENT
DTSTART;TZID=Europe/Copenhagen:20260429T100000
DTEND;TZID=Europe/Copenhagen:20260429T130000
DTSTAMP:20260423T130327
CREATED:20250625T123354Z
LAST-MODIFIED:20250625T123354Z
UID:10002986-1777456800-1777467600@respekt.ngo
SUMMARY:VUC Sundhedsdansk
DESCRIPTION:Alle kan deltage!\nNår du går til sundhedsdansk\, lærer du at tale om kroppen\, sundhed og sygdom uden tolk.\nDu kommer også til at arbejde med emner som børn\, familie og skole. Der er 6 timers undervisning fordelt på 2 dage om ugen i 3 måneder.
URL:https://respekt.ngo/event/vuc-sundhedsdansk/2026-04-29/
LOCATION:Workshop Rum
ATTACH;FMTTYPE=image/jpeg:https://respekt.ngo/wp-content/uploads/2024/09/vuc_logo_pri_p355c_100mm-1.jpg
ORGANIZER;CN="VUC FYN":MAILTO:awj@vucfyn.dk
END:VEVENT
BEGIN:VEVENT
DTSTART;TZID=Europe/Copenhagen:20260429T170000
DTEND;TZID=Europe/Copenhagen:20260429T190000
DTSTAMP:20260423T130327
CREATED:20250624T231042Z
LAST-MODIFIED:20250625T121000Z
UID:10001171-1777482000-1777489200@respekt.ngo
SUMMARY:Lektiehjælp
DESCRIPTION:SSO afholder ugentlig lektiehjælp hver onsdag fra 17-19.
URL:https://respekt.ngo/event/lektiehjaelp/2026-04-29/
LOCATION:Workshop Rum
ATTACH;FMTTYPE=image/png:https://respekt.ngo/wp-content/uploads/2025/01/SSO-logo.png
ORGANIZER;CN="Somalisk Studenterorganisation":MAILTO:ssoodense@gmail.com
END:VEVENT
BEGIN:VEVENT
DTSTART;TZID=Europe/Copenhagen:20260430T130000
DTEND;TZID=Europe/Copenhagen:20260430T140000
DTSTAMP:20260423T130327
CREATED:20250819T005107Z
LAST-MODIFIED:20250819T005107Z
UID:10004091-1777554000-1777557600@respekt.ngo
SUMMARY:Gymnastik med SDU
DESCRIPTION:Gymnastik med trænere fra universitet
URL:https://respekt.ngo/event/gymnastik-med-sdu/2026-04-30/
LOCATION:Workshop Rum
ORGANIZER;CN="R%C3%B8de Sol Kulturforening":MAILTO:gulshan@live.dk
END:VEVENT
BEGIN:VEVENT
DTSTART;TZID=Europe/Copenhagen:20260430T140000
DTEND;TZID=Europe/Copenhagen:20260430T163000
DTSTAMP:20260423T130327
CREATED:20251009T123953Z
LAST-MODIFIED:20251023T152951Z
UID:10004466-1777557600-1777566600@respekt.ngo
SUMMARY:AOF danskundervisning
DESCRIPTION:FVU-dansk \nTrin 1 er for dig\, der gerne vil begynde forfra med staveregler og grammatik.\nTrin 2 er for dig\, der vil arbejde mere med grammatik. Du lærer for eksempel om ordenes endelser\, om stumme bogstaver\, og du læser og skrive små tekster.\nTrin 3 Her finpudser du grammatikken\, og du læser og skriver forskellige typer af tekster.\nTrin 4 Du læser og skriver fagtekster\, og du kan bruge trin 4\, hvis du vil forberede dig på et studie.\nFør du begynder på undervisning\, får du lavet en læse-skrive-test\, der viser hvilket trin\, du bør gå på. Hvert trin varer 40-80 undervisningstimer. \nEfter hvert trin kan du gå til en skriftlig prøve. Du bestemmer selv\, om du vil gå til prøven. \nDu får et bevis for hvert trin\, du har gennemført.
URL:https://respekt.ngo/event/aof-danskundervisning-2/2026-04-30/
LOCATION:Workshop Rum
ORGANIZER;CN="Boligsocialt Hus":MAILTO:kahf@boligsocialthus.dk
END:VEVENT
BEGIN:VEVENT
DTSTART;TZID=Europe/Copenhagen:20260501T160000
DTEND;TZID=Europe/Copenhagen:20260501T200000
DTSTAMP:20260423T130327
CREATED:20250629T191734Z
LAST-MODIFIED:20250629T191734Z
UID:10003734-1777651200-1777665600@respekt.ngo
SUMMARY:Ung kurdisk dansegruppe
DESCRIPTION:Danse gruppe/Røde Sol Kulturforening
URL:https://respekt.ngo/event/ung-danse-gruppe-2/2026-05-01/
LOCATION:Workshop Rum
ATTACH;FMTTYPE=image/jpeg:https://respekt.ngo/wp-content/uploads/2025/05/IMG-20250509-WA0016.jpg
END:VEVENT
BEGIN:VEVENT
DTSTART;TZID=Europe/Copenhagen:20260503T140000
DTEND;TZID=Europe/Copenhagen:20260503T170000
DTSTAMP:20260423T130327
CREATED:20251002T070823Z
LAST-MODIFIED:20251002T103328Z
UID:10004172-1777816800-1777827600@respekt.ngo
SUMMARY:Kurdisk ungdom – Dans
DESCRIPTION:Vi mødes i Kurdisk ungdom\, alleer velkomne\, gruppen er for dig der er mellem 15-30 år. Vi danser kurdisk folkedans og hygger os sammen.
URL:https://respekt.ngo/event/kurdisk-ungdom-dans/2026-05-03/
LOCATION:Workshop Rum
END:VEVENT
BEGIN:VEVENT
DTSTART;TZID=Europe/Copenhagen:20260504T100000
DTEND;TZID=Europe/Copenhagen:20260504T130000
DTSTAMP:20260423T130327
CREATED:20250625T123354Z
LAST-MODIFIED:20250625T123354Z
UID:10002987-1777888800-1777899600@respekt.ngo
SUMMARY:VUC Sundhedsdansk
DESCRIPTION:Alle kan deltage!\nNår du går til sundhedsdansk\, lærer du at tale om kroppen\, sundhed og sygdom uden tolk.\nDu kommer også til at arbejde med emner som børn\, familie og skole. Der er 6 timers undervisning fordelt på 2 dage om ugen i 3 måneder.
URL:https://respekt.ngo/event/vuc-sundhedsdansk/2026-05-04/
LOCATION:Workshop Rum
ATTACH;FMTTYPE=image/jpeg:https://respekt.ngo/wp-content/uploads/2024/09/vuc_logo_pri_p355c_100mm-1.jpg
ORGANIZER;CN="VUC FYN":MAILTO:awj@vucfyn.dk
END:VEVENT
BEGIN:VEVENT
DTSTART;TZID=Europe/Copenhagen:20260504T130000
DTEND;TZID=Europe/Copenhagen:20260504T150000
DTSTAMP:20260423T130327
CREATED:20250625T121652Z
LAST-MODIFIED:20250625T121652Z
UID:10002344-1777899600-1777906800@respekt.ngo
SUMMARY:Stolegymnastik
DESCRIPTION:Stolegymnastik er for alle\, men især:\nÆldre\, der ønsker at bevare funktionsevnen\nPersoner med fysiske begrænsninger eller sygdomme som gigt\, KOL\nMennesker under genoptræning efter fx operation eller skade
URL:https://respekt.ngo/event/stolegymnastik/2026-05-04/
LOCATION:Workshop Rum
ATTACH;FMTTYPE=image/jpeg:https://respekt.ngo/wp-content/uploads/2025/05/2f2773a9-426a-4ddd-9407-f48e2c23c6f8.jpeg
END:VEVENT
BEGIN:VEVENT
DTSTART;TZID=Europe/Copenhagen:20260505T120000
DTEND;TZID=Europe/Copenhagen:20260505T143000
DTSTAMP:20260423T130327
CREATED:20260113T131905Z
LAST-MODIFIED:20260113T131905Z
UID:10004935-1777982400-1777991400@respekt.ngo
SUMMARY:AOF engelskundervisning
DESCRIPTION:Styrk dine sproglige færdigheder på engelsk\nPå det danske arbejdsmarked fylder det engelske sprog mere og mere. Derfor bliver det for mange efterhånden væsentligt at være i stand til at forstå og kommunikere på engelsk. På FVU-engelsk lærer du at tale\, forstå\, læse og skrive på engelsk. Kurset er til dig\, der vil styrke og opbygge dine sproglige færdigheder på engelsk\, så du kan bruge det både i dit arbejds- og privatliv. \nUndervisningen er gratis\, og der kan søges om SVU (Statens Vok­se­nud­dan­nel­ses­støt­te).
URL:https://respekt.ngo/event/aof-engelskundervisning-2/2026-05-05/
LOCATION:Workshop Rum
ORGANIZER;CN="Boligsocialt Hus":MAILTO:kahf@boligsocialthus.dk
END:VEVENT
BEGIN:VEVENT
DTSTART;TZID=Europe/Copenhagen:20260506T100000
DTEND;TZID=Europe/Copenhagen:20260506T130000
DTSTAMP:20260423T130327
CREATED:20250625T123354Z
LAST-MODIFIED:20250625T123354Z
UID:10002988-1778061600-1778072400@respekt.ngo
SUMMARY:VUC Sundhedsdansk
DESCRIPTION:Alle kan deltage!\nNår du går til sundhedsdansk\, lærer du at tale om kroppen\, sundhed og sygdom uden tolk.\nDu kommer også til at arbejde med emner som børn\, familie og skole. Der er 6 timers undervisning fordelt på 2 dage om ugen i 3 måneder.
URL:https://respekt.ngo/event/vuc-sundhedsdansk/2026-05-06/
LOCATION:Workshop Rum
ATTACH;FMTTYPE=image/jpeg:https://respekt.ngo/wp-content/uploads/2024/09/vuc_logo_pri_p355c_100mm-1.jpg
ORGANIZER;CN="VUC FYN":MAILTO:awj@vucfyn.dk
END:VEVENT
BEGIN:VEVENT
DTSTART;TZID=Europe/Copenhagen:20260506T170000
DTEND;TZID=Europe/Copenhagen:20260506T190000
DTSTAMP:20260423T130327
CREATED:20250624T231042Z
LAST-MODIFIED:20250625T121000Z
UID:10001172-1778086800-1778094000@respekt.ngo
SUMMARY:Lektiehjælp
DESCRIPTION:SSO afholder ugentlig lektiehjælp hver onsdag fra 17-19.
URL:https://respekt.ngo/event/lektiehjaelp/2026-05-06/
LOCATION:Workshop Rum
ATTACH;FMTTYPE=image/png:https://respekt.ngo/wp-content/uploads/2025/01/SSO-logo.png
ORGANIZER;CN="Somalisk Studenterorganisation":MAILTO:ssoodense@gmail.com
END:VEVENT
BEGIN:VEVENT
DTSTART;TZID=Europe/Copenhagen:20260507T130000
DTEND;TZID=Europe/Copenhagen:20260507T140000
DTSTAMP:20260423T130327
CREATED:20250819T005107Z
LAST-MODIFIED:20250819T005107Z
UID:10004092-1778158800-1778162400@respekt.ngo
SUMMARY:Gymnastik med SDU
DESCRIPTION:Gymnastik med trænere fra universitet
URL:https://respekt.ngo/event/gymnastik-med-sdu/2026-05-07/
LOCATION:Workshop Rum
ORGANIZER;CN="R%C3%B8de Sol Kulturforening":MAILTO:gulshan@live.dk
END:VEVENT
BEGIN:VEVENT
DTSTART;TZID=Europe/Copenhagen:20260507T140000
DTEND;TZID=Europe/Copenhagen:20260507T163000
DTSTAMP:20260423T130327
CREATED:20251009T123953Z
LAST-MODIFIED:20251023T152951Z
UID:10004467-1778162400-1778171400@respekt.ngo
SUMMARY:AOF danskundervisning
DESCRIPTION:FVU-dansk \nTrin 1 er for dig\, der gerne vil begynde forfra med staveregler og grammatik.\nTrin 2 er for dig\, der vil arbejde mere med grammatik. Du lærer for eksempel om ordenes endelser\, om stumme bogstaver\, og du læser og skrive små tekster.\nTrin 3 Her finpudser du grammatikken\, og du læser og skriver forskellige typer af tekster.\nTrin 4 Du læser og skriver fagtekster\, og du kan bruge trin 4\, hvis du vil forberede dig på et studie.\nFør du begynder på undervisning\, får du lavet en læse-skrive-test\, der viser hvilket trin\, du bør gå på. Hvert trin varer 40-80 undervisningstimer. \nEfter hvert trin kan du gå til en skriftlig prøve. Du bestemmer selv\, om du vil gå til prøven. \nDu får et bevis for hvert trin\, du har gennemført.
URL:https://respekt.ngo/event/aof-danskundervisning-2/2026-05-07/
LOCATION:Workshop Rum
ORGANIZER;CN="Boligsocialt Hus":MAILTO:kahf@boligsocialthus.dk
END:VEVENT
BEGIN:VEVENT
DTSTART;TZID=Europe/Copenhagen:20260508T100000
DTEND;TZID=Europe/Copenhagen:20260508T123000
DTSTAMP:20260423T130327
CREATED:20260319T125305Z
LAST-MODIFIED:20260319T125305Z
UID:10005070-1778234400-1778243400@respekt.ngo
SUMMARY:Panel debat
DESCRIPTION:Panel debat sammen med Børn uden vold og Søstre mod Vold og kontrol.
URL:https://respekt.ngo/event/panel-debat/
LOCATION:Workshop Rum
ORGANIZER;CN="R%C3%B8de Sol Kulturforening":MAILTO:gulshan@live.dk
END:VEVENT
BEGIN:VEVENT
DTSTART;TZID=Europe/Copenhagen:20260508T160000
DTEND;TZID=Europe/Copenhagen:20260508T200000
DTSTAMP:20260423T130327
CREATED:20250629T191734Z
LAST-MODIFIED:20250629T191734Z
UID:10003735-1778256000-1778270400@respekt.ngo
SUMMARY:Ung kurdisk dansegruppe
DESCRIPTION:Danse gruppe/Røde Sol Kulturforening
URL:https://respekt.ngo/event/ung-danse-gruppe-2/2026-05-08/
LOCATION:Workshop Rum
ATTACH;FMTTYPE=image/jpeg:https://respekt.ngo/wp-content/uploads/2025/05/IMG-20250509-WA0016.jpg
END:VEVENT
BEGIN:VEVENT
DTSTART;TZID=Europe/Copenhagen:20260510T140000
DTEND;TZID=Europe/Copenhagen:20260510T170000
DTSTAMP:20260423T130327
CREATED:20251002T070823Z
LAST-MODIFIED:20251002T103328Z
UID:10004173-1778421600-1778432400@respekt.ngo
SUMMARY:Kurdisk ungdom – Dans
DESCRIPTION:Vi mødes i Kurdisk ungdom\, alleer velkomne\, gruppen er for dig der er mellem 15-30 år. Vi danser kurdisk folkedans og hygger os sammen.
URL:https://respekt.ngo/event/kurdisk-ungdom-dans/2026-05-10/
LOCATION:Workshop Rum
END:VEVENT
BEGIN:VEVENT
DTSTART;TZID=Europe/Copenhagen:20260511T100000
DTEND;TZID=Europe/Copenhagen:20260511T130000
DTSTAMP:20260423T130327
CREATED:20250625T123354Z
LAST-MODIFIED:20250625T123354Z
UID:10002989-1778493600-1778504400@respekt.ngo
SUMMARY:VUC Sundhedsdansk
DESCRIPTION:Alle kan deltage!\nNår du går til sundhedsdansk\, lærer du at tale om kroppen\, sundhed og sygdom uden tolk.\nDu kommer også til at arbejde med emner som børn\, familie og skole. Der er 6 timers undervisning fordelt på 2 dage om ugen i 3 måneder.
URL:https://respekt.ngo/event/vuc-sundhedsdansk/2026-05-11/
LOCATION:Workshop Rum
ATTACH;FMTTYPE=image/jpeg:https://respekt.ngo/wp-content/uploads/2024/09/vuc_logo_pri_p355c_100mm-1.jpg
ORGANIZER;CN="VUC FYN":MAILTO:awj@vucfyn.dk
END:VEVENT
BEGIN:VEVENT
DTSTART;TZID=Europe/Copenhagen:20260511T130000
DTEND;TZID=Europe/Copenhagen:20260511T150000
DTSTAMP:20260423T130327
CREATED:20250625T121652Z
LAST-MODIFIED:20250625T121652Z
UID:10002345-1778504400-1778511600@respekt.ngo
SUMMARY:Stolegymnastik
DESCRIPTION:Stolegymnastik er for alle\, men især:\nÆldre\, der ønsker at bevare funktionsevnen\nPersoner med fysiske begrænsninger eller sygdomme som gigt\, KOL\nMennesker under genoptræning efter fx operation eller skade
URL:https://respekt.ngo/event/stolegymnastik/2026-05-11/
LOCATION:Workshop Rum
ATTACH;FMTTYPE=image/jpeg:https://respekt.ngo/wp-content/uploads/2025/05/2f2773a9-426a-4ddd-9407-f48e2c23c6f8.jpeg
END:VEVENT
BEGIN:VEVENT
DTSTART;TZID=Europe/Copenhagen:20260512T120000
DTEND;TZID=Europe/Copenhagen:20260512T143000
DTSTAMP:20260423T130327
CREATED:20260113T131905Z
LAST-MODIFIED:20260113T131905Z
UID:10004936-1778587200-1778596200@respekt.ngo
SUMMARY:AOF engelskundervisning
DESCRIPTION:Styrk dine sproglige færdigheder på engelsk\nPå det danske arbejdsmarked fylder det engelske sprog mere og mere. Derfor bliver det for mange efterhånden væsentligt at være i stand til at forstå og kommunikere på engelsk. På FVU-engelsk lærer du at tale\, forstå\, læse og skrive på engelsk. Kurset er til dig\, der vil styrke og opbygge dine sproglige færdigheder på engelsk\, så du kan bruge det både i dit arbejds- og privatliv. \nUndervisningen er gratis\, og der kan søges om SVU (Statens Vok­se­nud­dan­nel­ses­støt­te).
URL:https://respekt.ngo/event/aof-engelskundervisning-2/2026-05-12/
LOCATION:Workshop Rum
ORGANIZER;CN="Boligsocialt Hus":MAILTO:kahf@boligsocialthus.dk
END:VEVENT
BEGIN:VEVENT
DTSTART;TZID=Europe/Copenhagen:20260513T100000
DTEND;TZID=Europe/Copenhagen:20260513T130000
DTSTAMP:20260423T130327
CREATED:20250625T123354Z
LAST-MODIFIED:20250625T123354Z
UID:10002990-1778666400-1778677200@respekt.ngo
SUMMARY:VUC Sundhedsdansk
DESCRIPTION:Alle kan deltage!\nNår du går til sundhedsdansk\, lærer du at tale om kroppen\, sundhed og sygdom uden tolk.\nDu kommer også til at arbejde med emner som børn\, familie og skole. Der er 6 timers undervisning fordelt på 2 dage om ugen i 3 måneder.
URL:https://respekt.ngo/event/vuc-sundhedsdansk/2026-05-13/
LOCATION:Workshop Rum
ATTACH;FMTTYPE=image/jpeg:https://respekt.ngo/wp-content/uploads/2024/09/vuc_logo_pri_p355c_100mm-1.jpg
ORGANIZER;CN="VUC FYN":MAILTO:awj@vucfyn.dk
END:VEVENT
BEGIN:VEVENT
DTSTART;TZID=Europe/Copenhagen:20260513T170000
DTEND;TZID=Europe/Copenhagen:20260513T190000
DTSTAMP:20260423T130327
CREATED:20250624T231042Z
LAST-MODIFIED:20250625T121000Z
UID:10001173-1778691600-1778698800@respekt.ngo
SUMMARY:Lektiehjælp
DESCRIPTION:SSO afholder ugentlig lektiehjælp hver onsdag fra 17-19.
URL:https://respekt.ngo/event/lektiehjaelp/2026-05-13/
LOCATION:Workshop Rum
ATTACH;FMTTYPE=image/png:https://respekt.ngo/wp-content/uploads/2025/01/SSO-logo.png
ORGANIZER;CN="Somalisk Studenterorganisation":MAILTO:ssoodense@gmail.com
END:VEVENT
BEGIN:VEVENT
DTSTART;TZID=Europe/Copenhagen:20260514T130000
DTEND;TZID=Europe/Copenhagen:20260514T140000
DTSTAMP:20260423T130327
CREATED:20250819T005107Z
LAST-MODIFIED:20250819T005107Z
UID:10004093-1778763600-1778767200@respekt.ngo
SUMMARY:Gymnastik med SDU
DESCRIPTION:Gymnastik med trænere fra universitet
URL:https://respekt.ngo/event/gymnastik-med-sdu/2026-05-14/
LOCATION:Workshop Rum
ORGANIZER;CN="R%C3%B8de Sol Kulturforening":MAILTO:gulshan@live.dk
END:VEVENT
BEGIN:VEVENT
DTSTART;TZID=Europe/Copenhagen:20260514T140000
DTEND;TZID=Europe/Copenhagen:20260514T163000
DTSTAMP:20260423T130327
CREATED:20251009T123953Z
LAST-MODIFIED:20251023T152951Z
UID:10004468-1778767200-1778776200@respekt.ngo
SUMMARY:AOF danskundervisning
DESCRIPTION:FVU-dansk \nTrin 1 er for dig\, der gerne vil begynde forfra med staveregler og grammatik.\nTrin 2 er for dig\, der vil arbejde mere med grammatik. Du lærer for eksempel om ordenes endelser\, om stumme bogstaver\, og du læser og skrive små tekster.\nTrin 3 Her finpudser du grammatikken\, og du læser og skriver forskellige typer af tekster.\nTrin 4 Du læser og skriver fagtekster\, og du kan bruge trin 4\, hvis du vil forberede dig på et studie.\nFør du begynder på undervisning\, får du lavet en læse-skrive-test\, der viser hvilket trin\, du bør gå på. Hvert trin varer 40-80 undervisningstimer. \nEfter hvert trin kan du gå til en skriftlig prøve. Du bestemmer selv\, om du vil gå til prøven. \nDu får et bevis for hvert trin\, du har gennemført.
URL:https://respekt.ngo/event/aof-danskundervisning-2/2026-05-14/
LOCATION:Workshop Rum
ORGANIZER;CN="Boligsocialt Hus":MAILTO:kahf@boligsocialthus.dk
END:VEVENT
END:VCALENDAR