BEGIN:VCALENDAR
VERSION:2.0
PRODID:-//Foreningen Respekt - ECPv6.14.0//NONSGML v1.0//EN
CALSCALE:GREGORIAN
METHOD:PUBLISH
X-ORIGINAL-URL:https://respekt.ngo
X-WR-CALDESC:Begivenheder for Foreningen Respekt
REFRESH-INTERVAL;VALUE=DURATION:PT1H
X-Robots-Tag:noindex
X-PUBLISHED-TTL:PT1H
BEGIN:VTIMEZONE
TZID:Europe/Copenhagen
BEGIN:DAYLIGHT
TZOFFSETFROM:+0100
TZOFFSETTO:+0200
TZNAME:CEST
DTSTART:20260329T010000
END:DAYLIGHT
BEGIN:STANDARD
TZOFFSETFROM:+0200
TZOFFSETTO:+0100
TZNAME:CET
DTSTART:20261025T010000
END:STANDARD
END:VTIMEZONE
BEGIN:VEVENT
DTSTART;TZID=Europe/Copenhagen:20260423T130000
DTEND;TZID=Europe/Copenhagen:20260423T140000
DTSTAMP:20260423T140504
CREATED:20250819T005107Z
LAST-MODIFIED:20250819T005107Z
UID:10004090-1776949200-1776952800@respekt.ngo
SUMMARY:Gymnastik med SDU
DESCRIPTION:Gymnastik med trænere fra universitet
URL:https://respekt.ngo/event/gymnastik-med-sdu/2026-04-23/
LOCATION:Workshop Rum
ORGANIZER;CN="R%C3%B8de Sol Kulturforening":MAILTO:gulshan@live.dk
END:VEVENT
BEGIN:VEVENT
DTSTART;TZID=Europe/Copenhagen:20260422T170000
DTEND;TZID=Europe/Copenhagen:20260422T190000
DTSTAMP:20260423T140504
CREATED:20250624T231042Z
LAST-MODIFIED:20250625T121000Z
UID:10001170-1776877200-1776884400@respekt.ngo
SUMMARY:Lektiehjælp
DESCRIPTION:SSO afholder ugentlig lektiehjælp hver onsdag fra 17-19.
URL:https://respekt.ngo/event/lektiehjaelp/2026-04-22/
LOCATION:Workshop Rum
ATTACH;FMTTYPE=image/png:https://respekt.ngo/wp-content/uploads/2025/01/SSO-logo.png
ORGANIZER;CN="Somalisk Studenterorganisation":MAILTO:ssoodense@gmail.com
END:VEVENT
BEGIN:VEVENT
DTSTART;TZID=Europe/Copenhagen:20260422T100000
DTEND;TZID=Europe/Copenhagen:20260422T130000
DTSTAMP:20260423T140504
CREATED:20250625T123354Z
LAST-MODIFIED:20250625T123354Z
UID:10002984-1776852000-1776862800@respekt.ngo
SUMMARY:VUC Sundhedsdansk
DESCRIPTION:Alle kan deltage!\nNår du går til sundhedsdansk\, lærer du at tale om kroppen\, sundhed og sygdom uden tolk.\nDu kommer også til at arbejde med emner som børn\, familie og skole. Der er 6 timers undervisning fordelt på 2 dage om ugen i 3 måneder.
URL:https://respekt.ngo/event/vuc-sundhedsdansk/2026-04-22/
LOCATION:Workshop Rum
ATTACH;FMTTYPE=image/jpeg:https://respekt.ngo/wp-content/uploads/2024/09/vuc_logo_pri_p355c_100mm-1.jpg
ORGANIZER;CN="VUC FYN":MAILTO:awj@vucfyn.dk
END:VEVENT
BEGIN:VEVENT
DTSTART;TZID=Europe/Copenhagen:20260421T150000
DTEND;TZID=Europe/Copenhagen:20260421T210000
DTSTAMP:20260423T140504
CREATED:20260319T125305Z
LAST-MODIFIED:20260319T125305Z
UID:10005074-1776783600-1776805200@respekt.ngo
SUMMARY:Bydelsløfter temamøde
DESCRIPTION:Temamøde for bydelsløfterne i Odense
URL:https://respekt.ngo/event/bydelsloefter-temamoede/
LOCATION:Workshop Rum
ORGANIZER;CN="Boligsocialt Hus":MAILTO:kahf@boligsocialthus.dk
END:VEVENT
BEGIN:VEVENT
DTSTART;TZID=Europe/Copenhagen:20260421T120000
DTEND;TZID=Europe/Copenhagen:20260421T143000
DTSTAMP:20260423T140504
CREATED:20260113T131905Z
LAST-MODIFIED:20260113T131905Z
UID:10004933-1776772800-1776781800@respekt.ngo
SUMMARY:AOF engelskundervisning
DESCRIPTION:Styrk dine sproglige færdigheder på engelsk\nPå det danske arbejdsmarked fylder det engelske sprog mere og mere. Derfor bliver det for mange efterhånden væsentligt at være i stand til at forstå og kommunikere på engelsk. På FVU-engelsk lærer du at tale\, forstå\, læse og skrive på engelsk. Kurset er til dig\, der vil styrke og opbygge dine sproglige færdigheder på engelsk\, så du kan bruge det både i dit arbejds- og privatliv. \nUndervisningen er gratis\, og der kan søges om SVU (Statens Vok­se­nud­dan­nel­ses­støt­te).
URL:https://respekt.ngo/event/aof-engelskundervisning-2/2026-04-21/
LOCATION:Workshop Rum
ORGANIZER;CN="Boligsocialt Hus":MAILTO:kahf@boligsocialthus.dk
END:VEVENT
BEGIN:VEVENT
DTSTART;TZID=Europe/Copenhagen:20260421T090000
DTEND;TZID=Europe/Copenhagen:20260421T113000
DTSTAMP:20260423T140504
CREATED:20260121T184332Z
LAST-MODIFIED:20260121T184332Z
UID:10005011-1776762000-1776771000@respekt.ngo
SUMMARY:Netværksmøde for foreningsskolen
DESCRIPTION:Afholdes af frivilligcenteret
URL:https://respekt.ngo/event/netvaerksmoede-for-foreningsskolen/
LOCATION:Workshop Rum
END:VEVENT
BEGIN:VEVENT
DTSTART;TZID=Europe/Copenhagen:20260420T130000
DTEND;TZID=Europe/Copenhagen:20260420T150000
DTSTAMP:20260423T140504
CREATED:20250625T121652Z
LAST-MODIFIED:20250625T121652Z
UID:10002342-1776690000-1776697200@respekt.ngo
SUMMARY:Stolegymnastik
DESCRIPTION:Stolegymnastik er for alle\, men især:\nÆldre\, der ønsker at bevare funktionsevnen\nPersoner med fysiske begrænsninger eller sygdomme som gigt\, KOL\nMennesker under genoptræning efter fx operation eller skade
URL:https://respekt.ngo/event/stolegymnastik/2026-04-20/
LOCATION:Workshop Rum
ATTACH;FMTTYPE=image/jpeg:https://respekt.ngo/wp-content/uploads/2025/05/2f2773a9-426a-4ddd-9407-f48e2c23c6f8.jpeg
END:VEVENT
BEGIN:VEVENT
DTSTART;TZID=Europe/Copenhagen:20260420T100000
DTEND;TZID=Europe/Copenhagen:20260420T130000
DTSTAMP:20260423T140504
CREATED:20250625T123354Z
LAST-MODIFIED:20250625T123354Z
UID:10002983-1776679200-1776690000@respekt.ngo
SUMMARY:VUC Sundhedsdansk
DESCRIPTION:Alle kan deltage!\nNår du går til sundhedsdansk\, lærer du at tale om kroppen\, sundhed og sygdom uden tolk.\nDu kommer også til at arbejde med emner som børn\, familie og skole. Der er 6 timers undervisning fordelt på 2 dage om ugen i 3 måneder.
URL:https://respekt.ngo/event/vuc-sundhedsdansk/2026-04-20/
LOCATION:Workshop Rum
ATTACH;FMTTYPE=image/jpeg:https://respekt.ngo/wp-content/uploads/2024/09/vuc_logo_pri_p355c_100mm-1.jpg
ORGANIZER;CN="VUC FYN":MAILTO:awj@vucfyn.dk
END:VEVENT
BEGIN:VEVENT
DTSTART;TZID=Europe/Copenhagen:20260419T140000
DTEND;TZID=Europe/Copenhagen:20260419T170000
DTSTAMP:20260423T140504
CREATED:20251002T070823Z
LAST-MODIFIED:20251002T103328Z
UID:10004170-1776607200-1776618000@respekt.ngo
SUMMARY:Kurdisk ungdom – Dans
DESCRIPTION:Vi mødes i Kurdisk ungdom\, alleer velkomne\, gruppen er for dig der er mellem 15-30 år. Vi danser kurdisk folkedans og hygger os sammen.
URL:https://respekt.ngo/event/kurdisk-ungdom-dans/2026-04-19/
LOCATION:Workshop Rum
END:VEVENT
BEGIN:VEVENT
DTSTART;TZID=Europe/Copenhagen:20260417T160000
DTEND;TZID=Europe/Copenhagen:20260417T200000
DTSTAMP:20260423T140504
CREATED:20250629T191734Z
LAST-MODIFIED:20250629T191734Z
UID:10003732-1776441600-1776456000@respekt.ngo
SUMMARY:Ung kurdisk dansegruppe
DESCRIPTION:Danse gruppe/Røde Sol Kulturforening
URL:https://respekt.ngo/event/ung-danse-gruppe-2/2026-04-17/
LOCATION:Workshop Rum
ATTACH;FMTTYPE=image/jpeg:https://respekt.ngo/wp-content/uploads/2025/05/IMG-20250509-WA0016.jpg
END:VEVENT
BEGIN:VEVENT
DTSTART;TZID=Europe/Copenhagen:20260416T163000
DTEND;TZID=Europe/Copenhagen:20260416T183000
DTSTAMP:20260423T140504
CREATED:20260223T182826Z
LAST-MODIFIED:20260410T093535Z
UID:10005038-1776357000-1776364200@respekt.ngo
SUMMARY:Netværksmøde med DRC Dansk Flygtningehjælp
DESCRIPTION:Netværksmøde med DRC Dansk Flygtningehjælp
URL:https://respekt.ngo/event/netvaerksmoede-med-drc-dansk-flygtningehjaelp/
LOCATION:Workshop Rum
END:VEVENT
BEGIN:VEVENT
DTSTART;TZID=Europe/Copenhagen:20260416T140000
DTEND;TZID=Europe/Copenhagen:20260416T163000
DTSTAMP:20260423T140504
CREATED:20251009T123953Z
LAST-MODIFIED:20251023T152951Z
UID:10004464-1776348000-1776357000@respekt.ngo
SUMMARY:AOF danskundervisning
DESCRIPTION:FVU-dansk \nTrin 1 er for dig\, der gerne vil begynde forfra med staveregler og grammatik.\nTrin 2 er for dig\, der vil arbejde mere med grammatik. Du lærer for eksempel om ordenes endelser\, om stumme bogstaver\, og du læser og skrive små tekster.\nTrin 3 Her finpudser du grammatikken\, og du læser og skriver forskellige typer af tekster.\nTrin 4 Du læser og skriver fagtekster\, og du kan bruge trin 4\, hvis du vil forberede dig på et studie.\nFør du begynder på undervisning\, får du lavet en læse-skrive-test\, der viser hvilket trin\, du bør gå på. Hvert trin varer 40-80 undervisningstimer. \nEfter hvert trin kan du gå til en skriftlig prøve. Du bestemmer selv\, om du vil gå til prøven. \nDu får et bevis for hvert trin\, du har gennemført.
URL:https://respekt.ngo/event/aof-danskundervisning-2/2026-04-16/
LOCATION:Workshop Rum
ORGANIZER;CN="Boligsocialt Hus":MAILTO:kahf@boligsocialthus.dk
END:VEVENT
BEGIN:VEVENT
DTSTART;TZID=Europe/Copenhagen:20260416T130000
DTEND;TZID=Europe/Copenhagen:20260416T140000
DTSTAMP:20260423T140504
CREATED:20250819T005107Z
LAST-MODIFIED:20250819T005107Z
UID:10004089-1776344400-1776348000@respekt.ngo
SUMMARY:Gymnastik med SDU
DESCRIPTION:Gymnastik med trænere fra universitet
URL:https://respekt.ngo/event/gymnastik-med-sdu/2026-04-16/
LOCATION:Workshop Rum
ORGANIZER;CN="R%C3%B8de Sol Kulturforening":MAILTO:gulshan@live.dk
END:VEVENT
BEGIN:VEVENT
DTSTART;TZID=Europe/Copenhagen:20260415T170000
DTEND;TZID=Europe/Copenhagen:20260415T190000
DTSTAMP:20260423T140504
CREATED:20250624T231042Z
LAST-MODIFIED:20250625T121000Z
UID:10001169-1776272400-1776279600@respekt.ngo
SUMMARY:Lektiehjælp
DESCRIPTION:SSO afholder ugentlig lektiehjælp hver onsdag fra 17-19.
URL:https://respekt.ngo/event/lektiehjaelp/2026-04-15/
LOCATION:Workshop Rum
ATTACH;FMTTYPE=image/png:https://respekt.ngo/wp-content/uploads/2025/01/SSO-logo.png
ORGANIZER;CN="Somalisk Studenterorganisation":MAILTO:ssoodense@gmail.com
END:VEVENT
BEGIN:VEVENT
DTSTART;TZID=Europe/Copenhagen:20260415T100000
DTEND;TZID=Europe/Copenhagen:20260415T130000
DTSTAMP:20260423T140504
CREATED:20250625T123354Z
LAST-MODIFIED:20250625T123354Z
UID:10002982-1776247200-1776258000@respekt.ngo
SUMMARY:VUC Sundhedsdansk
DESCRIPTION:Alle kan deltage!\nNår du går til sundhedsdansk\, lærer du at tale om kroppen\, sundhed og sygdom uden tolk.\nDu kommer også til at arbejde med emner som børn\, familie og skole. Der er 6 timers undervisning fordelt på 2 dage om ugen i 3 måneder.
URL:https://respekt.ngo/event/vuc-sundhedsdansk/2026-04-15/
LOCATION:Workshop Rum
ATTACH;FMTTYPE=image/jpeg:https://respekt.ngo/wp-content/uploads/2024/09/vuc_logo_pri_p355c_100mm-1.jpg
ORGANIZER;CN="VUC FYN":MAILTO:awj@vucfyn.dk
END:VEVENT
BEGIN:VEVENT
DTSTART;TZID=Europe/Copenhagen:20260414T120000
DTEND;TZID=Europe/Copenhagen:20260414T143000
DTSTAMP:20260423T140504
CREATED:20260113T131905Z
LAST-MODIFIED:20260113T131905Z
UID:10004932-1776168000-1776177000@respekt.ngo
SUMMARY:AOF engelskundervisning
DESCRIPTION:Styrk dine sproglige færdigheder på engelsk\nPå det danske arbejdsmarked fylder det engelske sprog mere og mere. Derfor bliver det for mange efterhånden væsentligt at være i stand til at forstå og kommunikere på engelsk. På FVU-engelsk lærer du at tale\, forstå\, læse og skrive på engelsk. Kurset er til dig\, der vil styrke og opbygge dine sproglige færdigheder på engelsk\, så du kan bruge det både i dit arbejds- og privatliv. \nUndervisningen er gratis\, og der kan søges om SVU (Statens Vok­se­nud­dan­nel­ses­støt­te).
URL:https://respekt.ngo/event/aof-engelskundervisning-2/2026-04-14/
LOCATION:Workshop Rum
ORGANIZER;CN="Boligsocialt Hus":MAILTO:kahf@boligsocialthus.dk
END:VEVENT
BEGIN:VEVENT
DTSTART;TZID=Europe/Copenhagen:20260413T130000
DTEND;TZID=Europe/Copenhagen:20260413T150000
DTSTAMP:20260423T140504
CREATED:20250625T121652Z
LAST-MODIFIED:20250625T121652Z
UID:10002341-1776085200-1776092400@respekt.ngo
SUMMARY:Stolegymnastik
DESCRIPTION:Stolegymnastik er for alle\, men især:\nÆldre\, der ønsker at bevare funktionsevnen\nPersoner med fysiske begrænsninger eller sygdomme som gigt\, KOL\nMennesker under genoptræning efter fx operation eller skade
URL:https://respekt.ngo/event/stolegymnastik/2026-04-13/
LOCATION:Workshop Rum
ATTACH;FMTTYPE=image/jpeg:https://respekt.ngo/wp-content/uploads/2025/05/2f2773a9-426a-4ddd-9407-f48e2c23c6f8.jpeg
END:VEVENT
BEGIN:VEVENT
DTSTART;TZID=Europe/Copenhagen:20260413T100000
DTEND;TZID=Europe/Copenhagen:20260413T130000
DTSTAMP:20260423T140504
CREATED:20250625T123354Z
LAST-MODIFIED:20250625T123354Z
UID:10002981-1776074400-1776085200@respekt.ngo
SUMMARY:VUC Sundhedsdansk
DESCRIPTION:Alle kan deltage!\nNår du går til sundhedsdansk\, lærer du at tale om kroppen\, sundhed og sygdom uden tolk.\nDu kommer også til at arbejde med emner som børn\, familie og skole. Der er 6 timers undervisning fordelt på 2 dage om ugen i 3 måneder.
URL:https://respekt.ngo/event/vuc-sundhedsdansk/2026-04-13/
LOCATION:Workshop Rum
ATTACH;FMTTYPE=image/jpeg:https://respekt.ngo/wp-content/uploads/2024/09/vuc_logo_pri_p355c_100mm-1.jpg
ORGANIZER;CN="VUC FYN":MAILTO:awj@vucfyn.dk
END:VEVENT
BEGIN:VEVENT
DTSTART;TZID=Europe/Copenhagen:20260412T140000
DTEND;TZID=Europe/Copenhagen:20260412T170000
DTSTAMP:20260423T140504
CREATED:20251002T070823Z
LAST-MODIFIED:20251002T103328Z
UID:10004169-1776002400-1776013200@respekt.ngo
SUMMARY:Kurdisk ungdom – Dans
DESCRIPTION:Vi mødes i Kurdisk ungdom\, alleer velkomne\, gruppen er for dig der er mellem 15-30 år. Vi danser kurdisk folkedans og hygger os sammen.
URL:https://respekt.ngo/event/kurdisk-ungdom-dans/2026-04-12/
LOCATION:Workshop Rum
END:VEVENT
BEGIN:VEVENT
DTSTART;TZID=Europe/Copenhagen:20260411T140000
DTEND;TZID=Europe/Copenhagen:20260411T233000
DTSTAMP:20260423T140504
CREATED:20260409T114310Z
LAST-MODIFIED:20260409T114310Z
UID:10005336-1775916000-1775950200@respekt.ngo
SUMMARY:Filmaften - musik og fællespisning
DESCRIPTION:Filmaften – musik og fællespisning
URL:https://respekt.ngo/event/filmaften-musik-og-faellespisning/
LOCATION:Workshop Rum
END:VEVENT
BEGIN:VEVENT
DTSTART;TZID=Europe/Copenhagen:20260410T160000
DTEND;TZID=Europe/Copenhagen:20260410T200000
DTSTAMP:20260423T140504
CREATED:20250629T191734Z
LAST-MODIFIED:20250629T191734Z
UID:10003731-1775836800-1775851200@respekt.ngo
SUMMARY:Ung kurdisk dansegruppe
DESCRIPTION:Danse gruppe/Røde Sol Kulturforening
URL:https://respekt.ngo/event/ung-danse-gruppe-2/2026-04-10/
LOCATION:Workshop Rum
ATTACH;FMTTYPE=image/jpeg:https://respekt.ngo/wp-content/uploads/2025/05/IMG-20250509-WA0016.jpg
END:VEVENT
BEGIN:VEVENT
DTSTART;TZID=Europe/Copenhagen:20260409T140000
DTEND;TZID=Europe/Copenhagen:20260409T163000
DTSTAMP:20260423T140504
CREATED:20251009T123953Z
LAST-MODIFIED:20251023T152951Z
UID:10004463-1775743200-1775752200@respekt.ngo
SUMMARY:AOF danskundervisning
DESCRIPTION:FVU-dansk \nTrin 1 er for dig\, der gerne vil begynde forfra med staveregler og grammatik.\nTrin 2 er for dig\, der vil arbejde mere med grammatik. Du lærer for eksempel om ordenes endelser\, om stumme bogstaver\, og du læser og skrive små tekster.\nTrin 3 Her finpudser du grammatikken\, og du læser og skriver forskellige typer af tekster.\nTrin 4 Du læser og skriver fagtekster\, og du kan bruge trin 4\, hvis du vil forberede dig på et studie.\nFør du begynder på undervisning\, får du lavet en læse-skrive-test\, der viser hvilket trin\, du bør gå på. Hvert trin varer 40-80 undervisningstimer. \nEfter hvert trin kan du gå til en skriftlig prøve. Du bestemmer selv\, om du vil gå til prøven. \nDu får et bevis for hvert trin\, du har gennemført.
URL:https://respekt.ngo/event/aof-danskundervisning-2/2026-04-09/
LOCATION:Workshop Rum
ORGANIZER;CN="Boligsocialt Hus":MAILTO:kahf@boligsocialthus.dk
END:VEVENT
BEGIN:VEVENT
DTSTART;TZID=Europe/Copenhagen:20260409T130000
DTEND;TZID=Europe/Copenhagen:20260409T140000
DTSTAMP:20260423T140504
CREATED:20250819T005107Z
LAST-MODIFIED:20250819T005107Z
UID:10004088-1775739600-1775743200@respekt.ngo
SUMMARY:Gymnastik med SDU
DESCRIPTION:Gymnastik med trænere fra universitet
URL:https://respekt.ngo/event/gymnastik-med-sdu/2026-04-09/
LOCATION:Workshop Rum
ORGANIZER;CN="R%C3%B8de Sol Kulturforening":MAILTO:gulshan@live.dk
END:VEVENT
BEGIN:VEVENT
DTSTART;TZID=Europe/Copenhagen:20260408T170000
DTEND;TZID=Europe/Copenhagen:20260408T190000
DTSTAMP:20260423T140504
CREATED:20250624T231042Z
LAST-MODIFIED:20250625T121000Z
UID:10001168-1775667600-1775674800@respekt.ngo
SUMMARY:Lektiehjælp
DESCRIPTION:SSO afholder ugentlig lektiehjælp hver onsdag fra 17-19.
URL:https://respekt.ngo/event/lektiehjaelp/2026-04-08/
LOCATION:Workshop Rum
ATTACH;FMTTYPE=image/png:https://respekt.ngo/wp-content/uploads/2025/01/SSO-logo.png
ORGANIZER;CN="Somalisk Studenterorganisation":MAILTO:ssoodense@gmail.com
END:VEVENT
BEGIN:VEVENT
DTSTART;TZID=Europe/Copenhagen:20260408T100000
DTEND;TZID=Europe/Copenhagen:20260408T130000
DTSTAMP:20260423T140504
CREATED:20250625T123354Z
LAST-MODIFIED:20250625T123354Z
UID:10002980-1775642400-1775653200@respekt.ngo
SUMMARY:VUC Sundhedsdansk
DESCRIPTION:Alle kan deltage!\nNår du går til sundhedsdansk\, lærer du at tale om kroppen\, sundhed og sygdom uden tolk.\nDu kommer også til at arbejde med emner som børn\, familie og skole. Der er 6 timers undervisning fordelt på 2 dage om ugen i 3 måneder.
URL:https://respekt.ngo/event/vuc-sundhedsdansk/2026-04-08/
LOCATION:Workshop Rum
ATTACH;FMTTYPE=image/jpeg:https://respekt.ngo/wp-content/uploads/2024/09/vuc_logo_pri_p355c_100mm-1.jpg
ORGANIZER;CN="VUC FYN":MAILTO:awj@vucfyn.dk
END:VEVENT
BEGIN:VEVENT
DTSTART;TZID=Europe/Copenhagen:20260407T120000
DTEND;TZID=Europe/Copenhagen:20260407T143000
DTSTAMP:20260423T140504
CREATED:20260113T131905Z
LAST-MODIFIED:20260113T131905Z
UID:10004931-1775563200-1775572200@respekt.ngo
SUMMARY:AOF engelskundervisning
DESCRIPTION:Styrk dine sproglige færdigheder på engelsk\nPå det danske arbejdsmarked fylder det engelske sprog mere og mere. Derfor bliver det for mange efterhånden væsentligt at være i stand til at forstå og kommunikere på engelsk. På FVU-engelsk lærer du at tale\, forstå\, læse og skrive på engelsk. Kurset er til dig\, der vil styrke og opbygge dine sproglige færdigheder på engelsk\, så du kan bruge det både i dit arbejds- og privatliv. \nUndervisningen er gratis\, og der kan søges om SVU (Statens Vok­se­nud­dan­nel­ses­støt­te).
URL:https://respekt.ngo/event/aof-engelskundervisning-2/2026-04-07/
LOCATION:Workshop Rum
ORGANIZER;CN="Boligsocialt Hus":MAILTO:kahf@boligsocialthus.dk
END:VEVENT
BEGIN:VEVENT
DTSTART;TZID=Europe/Copenhagen:20260406T170000
DTEND;TZID=Europe/Copenhagen:20260406T190000
DTSTAMP:20260423T140504
CREATED:20260201T134729Z
LAST-MODIFIED:20260201T134729Z
UID:10005024-1775494800-1775502000@respekt.ngo
SUMMARY:GAME Girl Zone
DESCRIPTION:Game  Girl Zone er for alle piger\, der har lyst\, i alderen 10-16 år.
URL:https://respekt.ngo/event/game-girl-zone-8/
LOCATION:Cafe Rum\, Risingsvej 132\, 5240\, Denmark
ORGANIZER;CN="game":MAILTO:Soa@Game.ngo
END:VEVENT
BEGIN:VEVENT
DTSTART;TZID=Europe/Copenhagen:20260406T130000
DTEND;TZID=Europe/Copenhagen:20260406T150000
DTSTAMP:20260423T140504
CREATED:20250625T121652Z
LAST-MODIFIED:20250625T121652Z
UID:10002340-1775480400-1775487600@respekt.ngo
SUMMARY:Stolegymnastik
DESCRIPTION:Stolegymnastik er for alle\, men især:\nÆldre\, der ønsker at bevare funktionsevnen\nPersoner med fysiske begrænsninger eller sygdomme som gigt\, KOL\nMennesker under genoptræning efter fx operation eller skade
URL:https://respekt.ngo/event/stolegymnastik/2026-04-06/
LOCATION:Workshop Rum
ATTACH;FMTTYPE=image/jpeg:https://respekt.ngo/wp-content/uploads/2025/05/2f2773a9-426a-4ddd-9407-f48e2c23c6f8.jpeg
END:VEVENT
BEGIN:VEVENT
DTSTART;TZID=Europe/Copenhagen:20260406T100000
DTEND;TZID=Europe/Copenhagen:20260406T130000
DTSTAMP:20260423T140504
CREATED:20250625T123354Z
LAST-MODIFIED:20250625T123354Z
UID:10002979-1775469600-1775480400@respekt.ngo
SUMMARY:VUC Sundhedsdansk
DESCRIPTION:Alle kan deltage!\nNår du går til sundhedsdansk\, lærer du at tale om kroppen\, sundhed og sygdom uden tolk.\nDu kommer også til at arbejde med emner som børn\, familie og skole. Der er 6 timers undervisning fordelt på 2 dage om ugen i 3 måneder.
URL:https://respekt.ngo/event/vuc-sundhedsdansk/2026-04-06/
LOCATION:Workshop Rum
ATTACH;FMTTYPE=image/jpeg:https://respekt.ngo/wp-content/uploads/2024/09/vuc_logo_pri_p355c_100mm-1.jpg
ORGANIZER;CN="VUC FYN":MAILTO:awj@vucfyn.dk
END:VEVENT
BEGIN:VEVENT
DTSTART;TZID=Europe/Copenhagen:20260405T140000
DTEND;TZID=Europe/Copenhagen:20260405T170000
DTSTAMP:20260423T140504
CREATED:20251002T070823Z
LAST-MODIFIED:20251002T103328Z
UID:10004168-1775397600-1775408400@respekt.ngo
SUMMARY:Kurdisk ungdom – Dans
DESCRIPTION:Vi mødes i Kurdisk ungdom\, alleer velkomne\, gruppen er for dig der er mellem 15-30 år. Vi danser kurdisk folkedans og hygger os sammen.
URL:https://respekt.ngo/event/kurdisk-ungdom-dans/2026-04-05/
LOCATION:Workshop Rum
END:VEVENT
END:VCALENDAR