BEGIN:VCALENDAR
VERSION:2.0
PRODID:-//Foreningen Respekt - ECPv6.14.0//NONSGML v1.0//EN
CALSCALE:GREGORIAN
METHOD:PUBLISH
X-ORIGINAL-URL:https://respekt.ngo
X-WR-CALDESC:Begivenheder for Foreningen Respekt
REFRESH-INTERVAL;VALUE=DURATION:PT1H
X-Robots-Tag:noindex
X-PUBLISHED-TTL:PT1H
BEGIN:VTIMEZONE
TZID:Europe/Copenhagen
BEGIN:DAYLIGHT
TZOFFSETFROM:+0100
TZOFFSETTO:+0200
TZNAME:CEST
DTSTART:20260329T010000
END:DAYLIGHT
BEGIN:STANDARD
TZOFFSETFROM:+0200
TZOFFSETTO:+0100
TZNAME:CET
DTSTART:20261025T010000
END:STANDARD
BEGIN:DAYLIGHT
TZOFFSETFROM:+0100
TZOFFSETTO:+0200
TZNAME:CEST
DTSTART:20270328T010000
END:DAYLIGHT
BEGIN:STANDARD
TZOFFSETFROM:+0200
TZOFFSETTO:+0100
TZNAME:CET
DTSTART:20271031T010000
END:STANDARD
END:VTIMEZONE
BEGIN:VEVENT
DTSTART;TZID=Europe/Copenhagen:20261121T110000
DTEND;TZID=Europe/Copenhagen:20261121T130000
DTSTAMP:20260422T154847
CREATED:20250625T122139Z
LAST-MODIFIED:20250625T122223Z
UID:10002618-1795258800-1795266000@respekt.ngo
SUMMARY:Kvindenetværk for alle – Vollsmose Aktivitetsforening
DESCRIPTION:Vollsmose Kvindenetværk byder alle kvinder velkommen\, uanset baggrund.\nVi mødes hver uge i Respekt for hyggelige stunder og arrangerer diverse begivenheder.\nTilmelding sker hos Sarwa Sharif på telefonnummer 60612998. Vi glæder os til at byde dig velkommen!
URL:https://respekt.ngo/event/kvindenetvaerk-for-alle-vollsmose-aktivitetsforening/2026-11-21/
LOCATION:Cafe Rum\, Risingsvej 132\, 5240\, Denmark
ATTACH;FMTTYPE=image/jpeg:https://respekt.ngo/wp-content/uploads/2025/06/g9xmluajetm-e1724621791660-D060OG.jpg
END:VEVENT
BEGIN:VEVENT
DTSTART;TZID=Europe/Copenhagen:20261125T100000
DTEND;TZID=Europe/Copenhagen:20261125T130000
DTSTAMP:20260422T154847
CREATED:20260325T101952Z
LAST-MODIFIED:20260325T101952Z
UID:10005109-1795600800-1795611600@respekt.ngo
SUMMARY:Vietnamesisk seniorer
DESCRIPTION:Er du vietnamesisk senior i Odense og søger du hyggeligt fællesskab? Så kom og vær med til NHÓM HƯU TRÍ NGƯỜI VIỆT NAM i ODENSE! \nVi mødes i Café Respekt i Vollsmose. Her hygger vi os med spil (som Bầu cua tôm cá gà nai)\, sang (karaoke)\,  gymnastik\, fællesspisning og god snak. Vores Trivselsagenter Thủy og Pham Thi Yen byder dig varmt velkommen. Det er en fantastisk måde at møde nye venner og være en del af et aktivt fællesskab på. Kom og vær med!
URL:https://respekt.ngo/event/vietnam-senior-odense-3-2/2026-11-25/
LOCATION:Cafe Rum\, Risingsvej 132\, 5240\, Denmark
ATTACH;FMTTYPE=image/png:https://respekt.ngo/wp-content/uploads/2025/02/Beige-Minimalistic-Fun-Instagram-Post.png
END:VEVENT
BEGIN:VEVENT
DTSTART;TZID=Europe/Copenhagen:20261127T100000
DTEND;TZID=Europe/Copenhagen:20261127T120000
DTSTAMP:20260422T154847
CREATED:20250624T220718Z
LAST-MODIFIED:20250624T220718Z
UID:10000751-1795773600-1795780800@respekt.ngo
SUMMARY:Morgenmad med Kulturelt Kvindeforum
DESCRIPTION:Hver Fredag inviterer Kulturelt Kvindeforum\, alle kvinder på fælles morgenmad. Alle kvinder er velkomne\, og ræk endelig ud hvis du vil være med!Kontakt Nevine på flgd. nummer: 26 71 56 33
URL:https://respekt.ngo/event/morgenmad-med-kulturelt-kvindeforum/2026-11-27/
LOCATION:Cafe Rum\, Risingsvej 132\, 5240\, Denmark
ATTACH;FMTTYPE=image/jpeg:https://respekt.ngo/wp-content/uploads/2025/06/team-handshake-2021-12-09-21-20-39-utc-scaled-n5NkDI.jpg
END:VEVENT
BEGIN:VEVENT
DTSTART;TZID=Europe/Copenhagen:20261127T160000
DTEND;TZID=Europe/Copenhagen:20261127T193000
DTSTAMP:20260422T154848
CREATED:20250625T103343Z
LAST-MODIFIED:20250625T103343Z
UID:10001867-1795795200-1795807800@respekt.ngo
SUMMARY:Røde Sols Kvindecafé
DESCRIPTION:Røde Sols kvindecafé er et fællesskab åbent for kvinder af alle herkomster. Vi mødes i Respekt hver uge til hygge\, og har ofte også andre arrangementer.Alle er velkomne\, og tilmelding sker hos Aysel Hagi på tlf. 50 24 50 70
URL:https://respekt.ngo/event/rode-sols-kvindecafe/2026-11-27/
LOCATION:Cafe Rum\, Risingsvej 132\, 5240\, Denmark
ATTACH;FMTTYPE=image/png:https://respekt.ngo/wp-content/uploads/2023/02/roedesol2.png
ORGANIZER;CN="R%C3%B8de Sol Kulturforening":MAILTO:gulshan@live.dk
END:VEVENT
BEGIN:VEVENT
DTSTART;TZID=Europe/Copenhagen:20261128T110000
DTEND;TZID=Europe/Copenhagen:20261128T130000
DTSTAMP:20260422T154848
CREATED:20250625T122139Z
LAST-MODIFIED:20250625T122223Z
UID:10002619-1795863600-1795870800@respekt.ngo
SUMMARY:Kvindenetværk for alle – Vollsmose Aktivitetsforening
DESCRIPTION:Vollsmose Kvindenetværk byder alle kvinder velkommen\, uanset baggrund.\nVi mødes hver uge i Respekt for hyggelige stunder og arrangerer diverse begivenheder.\nTilmelding sker hos Sarwa Sharif på telefonnummer 60612998. Vi glæder os til at byde dig velkommen!
URL:https://respekt.ngo/event/kvindenetvaerk-for-alle-vollsmose-aktivitetsforening/2026-11-28/
LOCATION:Cafe Rum\, Risingsvej 132\, 5240\, Denmark
ATTACH;FMTTYPE=image/jpeg:https://respekt.ngo/wp-content/uploads/2025/06/g9xmluajetm-e1724621791660-D060OG.jpg
END:VEVENT
BEGIN:VEVENT
DTSTART;TZID=Europe/Copenhagen:20261202T100000
DTEND;TZID=Europe/Copenhagen:20261202T130000
DTSTAMP:20260422T154848
CREATED:20260325T101952Z
LAST-MODIFIED:20260325T101952Z
UID:10005110-1796205600-1796216400@respekt.ngo
SUMMARY:Vietnamesisk seniorer
DESCRIPTION:Er du vietnamesisk senior i Odense og søger du hyggeligt fællesskab? Så kom og vær med til NHÓM HƯU TRÍ NGƯỜI VIỆT NAM i ODENSE! \nVi mødes i Café Respekt i Vollsmose. Her hygger vi os med spil (som Bầu cua tôm cá gà nai)\, sang (karaoke)\,  gymnastik\, fællesspisning og god snak. Vores Trivselsagenter Thủy og Pham Thi Yen byder dig varmt velkommen. Det er en fantastisk måde at møde nye venner og være en del af et aktivt fællesskab på. Kom og vær med!
URL:https://respekt.ngo/event/vietnam-senior-odense-3-2/2026-12-02/
LOCATION:Cafe Rum\, Risingsvej 132\, 5240\, Denmark
ATTACH;FMTTYPE=image/png:https://respekt.ngo/wp-content/uploads/2025/02/Beige-Minimalistic-Fun-Instagram-Post.png
END:VEVENT
BEGIN:VEVENT
DTSTART;TZID=Europe/Copenhagen:20261204T100000
DTEND;TZID=Europe/Copenhagen:20261204T120000
DTSTAMP:20260422T154848
CREATED:20250624T220718Z
LAST-MODIFIED:20250624T220718Z
UID:10000752-1796378400-1796385600@respekt.ngo
SUMMARY:Morgenmad med Kulturelt Kvindeforum
DESCRIPTION:Hver Fredag inviterer Kulturelt Kvindeforum\, alle kvinder på fælles morgenmad. Alle kvinder er velkomne\, og ræk endelig ud hvis du vil være med!Kontakt Nevine på flgd. nummer: 26 71 56 33
URL:https://respekt.ngo/event/morgenmad-med-kulturelt-kvindeforum/2026-12-04/
LOCATION:Cafe Rum\, Risingsvej 132\, 5240\, Denmark
ATTACH;FMTTYPE=image/jpeg:https://respekt.ngo/wp-content/uploads/2025/06/team-handshake-2021-12-09-21-20-39-utc-scaled-n5NkDI.jpg
END:VEVENT
BEGIN:VEVENT
DTSTART;TZID=Europe/Copenhagen:20261204T160000
DTEND;TZID=Europe/Copenhagen:20261204T193000
DTSTAMP:20260422T154848
CREATED:20250625T103343Z
LAST-MODIFIED:20250625T103343Z
UID:10001868-1796400000-1796412600@respekt.ngo
SUMMARY:Røde Sols Kvindecafé
DESCRIPTION:Røde Sols kvindecafé er et fællesskab åbent for kvinder af alle herkomster. Vi mødes i Respekt hver uge til hygge\, og har ofte også andre arrangementer.Alle er velkomne\, og tilmelding sker hos Aysel Hagi på tlf. 50 24 50 70
URL:https://respekt.ngo/event/rode-sols-kvindecafe/2026-12-04/
LOCATION:Cafe Rum\, Risingsvej 132\, 5240\, Denmark
ATTACH;FMTTYPE=image/png:https://respekt.ngo/wp-content/uploads/2023/02/roedesol2.png
ORGANIZER;CN="R%C3%B8de Sol Kulturforening":MAILTO:gulshan@live.dk
END:VEVENT
BEGIN:VEVENT
DTSTART;TZID=Europe/Copenhagen:20261205T110000
DTEND;TZID=Europe/Copenhagen:20261205T130000
DTSTAMP:20260422T154848
CREATED:20250625T122139Z
LAST-MODIFIED:20250625T122223Z
UID:10002620-1796468400-1796475600@respekt.ngo
SUMMARY:Kvindenetværk for alle – Vollsmose Aktivitetsforening
DESCRIPTION:Vollsmose Kvindenetværk byder alle kvinder velkommen\, uanset baggrund.\nVi mødes hver uge i Respekt for hyggelige stunder og arrangerer diverse begivenheder.\nTilmelding sker hos Sarwa Sharif på telefonnummer 60612998. Vi glæder os til at byde dig velkommen!
URL:https://respekt.ngo/event/kvindenetvaerk-for-alle-vollsmose-aktivitetsforening/2026-12-05/
LOCATION:Cafe Rum\, Risingsvej 132\, 5240\, Denmark
ATTACH;FMTTYPE=image/jpeg:https://respekt.ngo/wp-content/uploads/2025/06/g9xmluajetm-e1724621791660-D060OG.jpg
END:VEVENT
BEGIN:VEVENT
DTSTART;TZID=Europe/Copenhagen:20261206T110000
DTEND;TZID=Europe/Copenhagen:20261206T150000
DTSTAMP:20260422T154848
CREATED:20250625T104519Z
LAST-MODIFIED:20250625T125534Z
UID:10002071-1796554800-1796569200@respekt.ngo
SUMMARY:Børneklub ved Røde Sol Kulturforening
DESCRIPTION:Madlavning
URL:https://respekt.ngo/event/rode-sol-kulturforening-borneklub/2026-12-06/
LOCATION:Cafe Rum\, Risingsvej 132\, 5240\, Denmark
ATTACH;FMTTYPE=image/jpeg:https://respekt.ngo/wp-content/uploads/2024/11/IMG-20231209-WA0047.jpg
ORGANIZER;CN="R%C3%B8de Sol Kulturforening":MAILTO:gulshan@live.dk
END:VEVENT
BEGIN:VEVENT
DTSTART;TZID=Europe/Copenhagen:20261207T163000
DTEND;TZID=Europe/Copenhagen:20261207T210000
DTSTAMP:20260422T154848
CREATED:20251201T144240Z
LAST-MODIFIED:20251212T095930Z
UID:10004822-1796661000-1796677200@respekt.ngo
SUMMARY:Game girlzone
DESCRIPTION:🌸 GAME Girl Zone 🌸\nKom og vær med i et fællesskab kun for piger! Her handler det ikke om at være bedst – men om at have det sjovt sammen. Vi leger\, bagedyster\, laver street art\, perler og aktiviteter i Odense samt masser af andre ting\, du selv kan være med til at bestemme. \nDe seje kvindelige Playmakere sørger for trygge rammer og gode grin – og du får nye veninder undervejs 💜 \n👉 For piger fra 8-12 år\n👉 I GAME-zonerne i Odense\, København\, Viborg og Kolding \nKom som du er – vi glæder os til at se dig!
URL:https://respekt.ngo/event/game-girlzone-4/2026-12-07/
LOCATION:Cafe Rum\, Risingsvej 132\, 5240\, Denmark
ORGANIZER;CN="game":MAILTO:Soa@Game.ngo
END:VEVENT
BEGIN:VEVENT
DTSTART;TZID=Europe/Copenhagen:20261209T100000
DTEND;TZID=Europe/Copenhagen:20261209T130000
DTSTAMP:20260422T154848
CREATED:20260325T101952Z
LAST-MODIFIED:20260325T101952Z
UID:10005111-1796810400-1796821200@respekt.ngo
SUMMARY:Vietnamesisk seniorer
DESCRIPTION:Er du vietnamesisk senior i Odense og søger du hyggeligt fællesskab? Så kom og vær med til NHÓM HƯU TRÍ NGƯỜI VIỆT NAM i ODENSE! \nVi mødes i Café Respekt i Vollsmose. Her hygger vi os med spil (som Bầu cua tôm cá gà nai)\, sang (karaoke)\,  gymnastik\, fællesspisning og god snak. Vores Trivselsagenter Thủy og Pham Thi Yen byder dig varmt velkommen. Det er en fantastisk måde at møde nye venner og være en del af et aktivt fællesskab på. Kom og vær med!
URL:https://respekt.ngo/event/vietnam-senior-odense-3-2/2026-12-09/
LOCATION:Cafe Rum\, Risingsvej 132\, 5240\, Denmark
ATTACH;FMTTYPE=image/png:https://respekt.ngo/wp-content/uploads/2025/02/Beige-Minimalistic-Fun-Instagram-Post.png
END:VEVENT
BEGIN:VEVENT
DTSTART;TZID=Europe/Copenhagen:20261211T100000
DTEND;TZID=Europe/Copenhagen:20261211T120000
DTSTAMP:20260422T154848
CREATED:20250624T220718Z
LAST-MODIFIED:20250624T220718Z
UID:10000753-1796983200-1796990400@respekt.ngo
SUMMARY:Morgenmad med Kulturelt Kvindeforum
DESCRIPTION:Hver Fredag inviterer Kulturelt Kvindeforum\, alle kvinder på fælles morgenmad. Alle kvinder er velkomne\, og ræk endelig ud hvis du vil være med!Kontakt Nevine på flgd. nummer: 26 71 56 33
URL:https://respekt.ngo/event/morgenmad-med-kulturelt-kvindeforum/2026-12-11/
LOCATION:Cafe Rum\, Risingsvej 132\, 5240\, Denmark
ATTACH;FMTTYPE=image/jpeg:https://respekt.ngo/wp-content/uploads/2025/06/team-handshake-2021-12-09-21-20-39-utc-scaled-n5NkDI.jpg
END:VEVENT
BEGIN:VEVENT
DTSTART;TZID=Europe/Copenhagen:20261211T160000
DTEND;TZID=Europe/Copenhagen:20261211T193000
DTSTAMP:20260422T154848
CREATED:20250625T103343Z
LAST-MODIFIED:20250625T103343Z
UID:10001869-1797004800-1797017400@respekt.ngo
SUMMARY:Røde Sols Kvindecafé
DESCRIPTION:Røde Sols kvindecafé er et fællesskab åbent for kvinder af alle herkomster. Vi mødes i Respekt hver uge til hygge\, og har ofte også andre arrangementer.Alle er velkomne\, og tilmelding sker hos Aysel Hagi på tlf. 50 24 50 70
URL:https://respekt.ngo/event/rode-sols-kvindecafe/2026-12-11/
LOCATION:Cafe Rum\, Risingsvej 132\, 5240\, Denmark
ATTACH;FMTTYPE=image/png:https://respekt.ngo/wp-content/uploads/2023/02/roedesol2.png
ORGANIZER;CN="R%C3%B8de Sol Kulturforening":MAILTO:gulshan@live.dk
END:VEVENT
BEGIN:VEVENT
DTSTART;TZID=Europe/Copenhagen:20261212T110000
DTEND;TZID=Europe/Copenhagen:20261212T130000
DTSTAMP:20260422T154848
CREATED:20250625T122139Z
LAST-MODIFIED:20250625T122223Z
UID:10002621-1797073200-1797080400@respekt.ngo
SUMMARY:Kvindenetværk for alle – Vollsmose Aktivitetsforening
DESCRIPTION:Vollsmose Kvindenetværk byder alle kvinder velkommen\, uanset baggrund.\nVi mødes hver uge i Respekt for hyggelige stunder og arrangerer diverse begivenheder.\nTilmelding sker hos Sarwa Sharif på telefonnummer 60612998. Vi glæder os til at byde dig velkommen!
URL:https://respekt.ngo/event/kvindenetvaerk-for-alle-vollsmose-aktivitetsforening/2026-12-12/
LOCATION:Cafe Rum\, Risingsvej 132\, 5240\, Denmark
ATTACH;FMTTYPE=image/jpeg:https://respekt.ngo/wp-content/uploads/2025/06/g9xmluajetm-e1724621791660-D060OG.jpg
END:VEVENT
BEGIN:VEVENT
DTSTART;TZID=Europe/Copenhagen:20261216T100000
DTEND;TZID=Europe/Copenhagen:20261216T130000
DTSTAMP:20260422T154848
CREATED:20260325T101952Z
LAST-MODIFIED:20260325T101952Z
UID:10005112-1797415200-1797426000@respekt.ngo
SUMMARY:Vietnamesisk seniorer
DESCRIPTION:Er du vietnamesisk senior i Odense og søger du hyggeligt fællesskab? Så kom og vær med til NHÓM HƯU TRÍ NGƯỜI VIỆT NAM i ODENSE! \nVi mødes i Café Respekt i Vollsmose. Her hygger vi os med spil (som Bầu cua tôm cá gà nai)\, sang (karaoke)\,  gymnastik\, fællesspisning og god snak. Vores Trivselsagenter Thủy og Pham Thi Yen byder dig varmt velkommen. Det er en fantastisk måde at møde nye venner og være en del af et aktivt fællesskab på. Kom og vær med!
URL:https://respekt.ngo/event/vietnam-senior-odense-3-2/2026-12-16/
LOCATION:Cafe Rum\, Risingsvej 132\, 5240\, Denmark
ATTACH;FMTTYPE=image/png:https://respekt.ngo/wp-content/uploads/2025/02/Beige-Minimalistic-Fun-Instagram-Post.png
END:VEVENT
BEGIN:VEVENT
DTSTART;TZID=Europe/Copenhagen:20261218T100000
DTEND;TZID=Europe/Copenhagen:20261218T120000
DTSTAMP:20260422T154848
CREATED:20250624T220718Z
LAST-MODIFIED:20250624T220718Z
UID:10000754-1797588000-1797595200@respekt.ngo
SUMMARY:Morgenmad med Kulturelt Kvindeforum
DESCRIPTION:Hver Fredag inviterer Kulturelt Kvindeforum\, alle kvinder på fælles morgenmad. Alle kvinder er velkomne\, og ræk endelig ud hvis du vil være med!Kontakt Nevine på flgd. nummer: 26 71 56 33
URL:https://respekt.ngo/event/morgenmad-med-kulturelt-kvindeforum/2026-12-18/
LOCATION:Cafe Rum\, Risingsvej 132\, 5240\, Denmark
ATTACH;FMTTYPE=image/jpeg:https://respekt.ngo/wp-content/uploads/2025/06/team-handshake-2021-12-09-21-20-39-utc-scaled-n5NkDI.jpg
END:VEVENT
BEGIN:VEVENT
DTSTART;TZID=Europe/Copenhagen:20261218T160000
DTEND;TZID=Europe/Copenhagen:20261218T193000
DTSTAMP:20260422T154848
CREATED:20250625T103343Z
LAST-MODIFIED:20250625T103343Z
UID:10001870-1797609600-1797622200@respekt.ngo
SUMMARY:Røde Sols Kvindecafé
DESCRIPTION:Røde Sols kvindecafé er et fællesskab åbent for kvinder af alle herkomster. Vi mødes i Respekt hver uge til hygge\, og har ofte også andre arrangementer.Alle er velkomne\, og tilmelding sker hos Aysel Hagi på tlf. 50 24 50 70
URL:https://respekt.ngo/event/rode-sols-kvindecafe/2026-12-18/
LOCATION:Cafe Rum\, Risingsvej 132\, 5240\, Denmark
ATTACH;FMTTYPE=image/png:https://respekt.ngo/wp-content/uploads/2023/02/roedesol2.png
ORGANIZER;CN="R%C3%B8de Sol Kulturforening":MAILTO:gulshan@live.dk
END:VEVENT
BEGIN:VEVENT
DTSTART;TZID=Europe/Copenhagen:20261219T110000
DTEND;TZID=Europe/Copenhagen:20261219T130000
DTSTAMP:20260422T154848
CREATED:20250625T122139Z
LAST-MODIFIED:20250625T122223Z
UID:10002622-1797678000-1797685200@respekt.ngo
SUMMARY:Kvindenetværk for alle – Vollsmose Aktivitetsforening
DESCRIPTION:Vollsmose Kvindenetværk byder alle kvinder velkommen\, uanset baggrund.\nVi mødes hver uge i Respekt for hyggelige stunder og arrangerer diverse begivenheder.\nTilmelding sker hos Sarwa Sharif på telefonnummer 60612998. Vi glæder os til at byde dig velkommen!
URL:https://respekt.ngo/event/kvindenetvaerk-for-alle-vollsmose-aktivitetsforening/2026-12-19/
LOCATION:Cafe Rum\, Risingsvej 132\, 5240\, Denmark
ATTACH;FMTTYPE=image/jpeg:https://respekt.ngo/wp-content/uploads/2025/06/g9xmluajetm-e1724621791660-D060OG.jpg
END:VEVENT
BEGIN:VEVENT
DTSTART;TZID=Europe/Copenhagen:20261223T100000
DTEND;TZID=Europe/Copenhagen:20261223T130000
DTSTAMP:20260422T154848
CREATED:20260325T101952Z
LAST-MODIFIED:20260325T101952Z
UID:10005113-1798020000-1798030800@respekt.ngo
SUMMARY:Vietnamesisk seniorer
DESCRIPTION:Er du vietnamesisk senior i Odense og søger du hyggeligt fællesskab? Så kom og vær med til NHÓM HƯU TRÍ NGƯỜI VIỆT NAM i ODENSE! \nVi mødes i Café Respekt i Vollsmose. Her hygger vi os med spil (som Bầu cua tôm cá gà nai)\, sang (karaoke)\,  gymnastik\, fællesspisning og god snak. Vores Trivselsagenter Thủy og Pham Thi Yen byder dig varmt velkommen. Det er en fantastisk måde at møde nye venner og være en del af et aktivt fællesskab på. Kom og vær med!
URL:https://respekt.ngo/event/vietnam-senior-odense-3-2/2026-12-23/
LOCATION:Cafe Rum\, Risingsvej 132\, 5240\, Denmark
ATTACH;FMTTYPE=image/png:https://respekt.ngo/wp-content/uploads/2025/02/Beige-Minimalistic-Fun-Instagram-Post.png
END:VEVENT
BEGIN:VEVENT
DTSTART;TZID=Europe/Copenhagen:20261225T100000
DTEND;TZID=Europe/Copenhagen:20261225T120000
DTSTAMP:20260422T154848
CREATED:20250624T220718Z
LAST-MODIFIED:20250624T220718Z
UID:10000755-1798192800-1798200000@respekt.ngo
SUMMARY:Morgenmad med Kulturelt Kvindeforum
DESCRIPTION:Hver Fredag inviterer Kulturelt Kvindeforum\, alle kvinder på fælles morgenmad. Alle kvinder er velkomne\, og ræk endelig ud hvis du vil være med!Kontakt Nevine på flgd. nummer: 26 71 56 33
URL:https://respekt.ngo/event/morgenmad-med-kulturelt-kvindeforum/2026-12-25/
LOCATION:Cafe Rum\, Risingsvej 132\, 5240\, Denmark
ATTACH;FMTTYPE=image/jpeg:https://respekt.ngo/wp-content/uploads/2025/06/team-handshake-2021-12-09-21-20-39-utc-scaled-n5NkDI.jpg
END:VEVENT
BEGIN:VEVENT
DTSTART;TZID=Europe/Copenhagen:20261225T160000
DTEND;TZID=Europe/Copenhagen:20261225T193000
DTSTAMP:20260422T154848
CREATED:20250625T103343Z
LAST-MODIFIED:20250625T103343Z
UID:10001871-1798214400-1798227000@respekt.ngo
SUMMARY:Røde Sols Kvindecafé
DESCRIPTION:Røde Sols kvindecafé er et fællesskab åbent for kvinder af alle herkomster. Vi mødes i Respekt hver uge til hygge\, og har ofte også andre arrangementer.Alle er velkomne\, og tilmelding sker hos Aysel Hagi på tlf. 50 24 50 70
URL:https://respekt.ngo/event/rode-sols-kvindecafe/2026-12-25/
LOCATION:Cafe Rum\, Risingsvej 132\, 5240\, Denmark
ATTACH;FMTTYPE=image/png:https://respekt.ngo/wp-content/uploads/2023/02/roedesol2.png
ORGANIZER;CN="R%C3%B8de Sol Kulturforening":MAILTO:gulshan@live.dk
END:VEVENT
BEGIN:VEVENT
DTSTART;TZID=Europe/Copenhagen:20261226T110000
DTEND;TZID=Europe/Copenhagen:20261226T130000
DTSTAMP:20260422T154848
CREATED:20250625T122139Z
LAST-MODIFIED:20250625T122223Z
UID:10002623-1798282800-1798290000@respekt.ngo
SUMMARY:Kvindenetværk for alle – Vollsmose Aktivitetsforening
DESCRIPTION:Vollsmose Kvindenetværk byder alle kvinder velkommen\, uanset baggrund.\nVi mødes hver uge i Respekt for hyggelige stunder og arrangerer diverse begivenheder.\nTilmelding sker hos Sarwa Sharif på telefonnummer 60612998. Vi glæder os til at byde dig velkommen!
URL:https://respekt.ngo/event/kvindenetvaerk-for-alle-vollsmose-aktivitetsforening/2026-12-26/
LOCATION:Cafe Rum\, Risingsvej 132\, 5240\, Denmark
ATTACH;FMTTYPE=image/jpeg:https://respekt.ngo/wp-content/uploads/2025/06/g9xmluajetm-e1724621791660-D060OG.jpg
END:VEVENT
BEGIN:VEVENT
DTSTART;TZID=Europe/Copenhagen:20261228T163000
DTEND;TZID=Europe/Copenhagen:20261228T210000
DTSTAMP:20260422T154848
CREATED:20251201T144240Z
LAST-MODIFIED:20251212T095930Z
UID:10004823-1798475400-1798491600@respekt.ngo
SUMMARY:Game girlzone
DESCRIPTION:🌸 GAME Girl Zone 🌸\nKom og vær med i et fællesskab kun for piger! Her handler det ikke om at være bedst – men om at have det sjovt sammen. Vi leger\, bagedyster\, laver street art\, perler og aktiviteter i Odense samt masser af andre ting\, du selv kan være med til at bestemme. \nDe seje kvindelige Playmakere sørger for trygge rammer og gode grin – og du får nye veninder undervejs 💜 \n👉 For piger fra 8-12 år\n👉 I GAME-zonerne i Odense\, København\, Viborg og Kolding \nKom som du er – vi glæder os til at se dig!
URL:https://respekt.ngo/event/game-girlzone-4/2026-12-28/
LOCATION:Cafe Rum\, Risingsvej 132\, 5240\, Denmark
ORGANIZER;CN="game":MAILTO:Soa@Game.ngo
END:VEVENT
BEGIN:VEVENT
DTSTART;TZID=Europe/Copenhagen:20261230T100000
DTEND;TZID=Europe/Copenhagen:20261230T130000
DTSTAMP:20260422T154848
CREATED:20260325T101952Z
LAST-MODIFIED:20260325T101952Z
UID:10005114-1798624800-1798635600@respekt.ngo
SUMMARY:Vietnamesisk seniorer
DESCRIPTION:Er du vietnamesisk senior i Odense og søger du hyggeligt fællesskab? Så kom og vær med til NHÓM HƯU TRÍ NGƯỜI VIỆT NAM i ODENSE! \nVi mødes i Café Respekt i Vollsmose. Her hygger vi os med spil (som Bầu cua tôm cá gà nai)\, sang (karaoke)\,  gymnastik\, fællesspisning og god snak. Vores Trivselsagenter Thủy og Pham Thi Yen byder dig varmt velkommen. Det er en fantastisk måde at møde nye venner og være en del af et aktivt fællesskab på. Kom og vær med!
URL:https://respekt.ngo/event/vietnam-senior-odense-3-2/2026-12-30/
LOCATION:Cafe Rum\, Risingsvej 132\, 5240\, Denmark
ATTACH;FMTTYPE=image/png:https://respekt.ngo/wp-content/uploads/2025/02/Beige-Minimalistic-Fun-Instagram-Post.png
END:VEVENT
BEGIN:VEVENT
DTSTART;TZID=Europe/Copenhagen:20270101T100000
DTEND;TZID=Europe/Copenhagen:20270101T120000
DTSTAMP:20260422T154848
CREATED:20250624T220718Z
LAST-MODIFIED:20250624T220718Z
UID:10000756-1798797600-1798804800@respekt.ngo
SUMMARY:Morgenmad med Kulturelt Kvindeforum
DESCRIPTION:Hver Fredag inviterer Kulturelt Kvindeforum\, alle kvinder på fælles morgenmad. Alle kvinder er velkomne\, og ræk endelig ud hvis du vil være med!Kontakt Nevine på flgd. nummer: 26 71 56 33
URL:https://respekt.ngo/event/morgenmad-med-kulturelt-kvindeforum/2027-01-01/
LOCATION:Cafe Rum\, Risingsvej 132\, 5240\, Denmark
ATTACH;FMTTYPE=image/jpeg:https://respekt.ngo/wp-content/uploads/2025/06/team-handshake-2021-12-09-21-20-39-utc-scaled-n5NkDI.jpg
END:VEVENT
BEGIN:VEVENT
DTSTART;TZID=Europe/Copenhagen:20270101T160000
DTEND;TZID=Europe/Copenhagen:20270101T193000
DTSTAMP:20260422T154848
CREATED:20250625T103343Z
LAST-MODIFIED:20250625T103343Z
UID:10001872-1798819200-1798831800@respekt.ngo
SUMMARY:Røde Sols Kvindecafé
DESCRIPTION:Røde Sols kvindecafé er et fællesskab åbent for kvinder af alle herkomster. Vi mødes i Respekt hver uge til hygge\, og har ofte også andre arrangementer.Alle er velkomne\, og tilmelding sker hos Aysel Hagi på tlf. 50 24 50 70
URL:https://respekt.ngo/event/rode-sols-kvindecafe/2027-01-01/
LOCATION:Cafe Rum\, Risingsvej 132\, 5240\, Denmark
ATTACH;FMTTYPE=image/png:https://respekt.ngo/wp-content/uploads/2023/02/roedesol2.png
ORGANIZER;CN="R%C3%B8de Sol Kulturforening":MAILTO:gulshan@live.dk
END:VEVENT
BEGIN:VEVENT
DTSTART;TZID=Europe/Copenhagen:20270102T110000
DTEND;TZID=Europe/Copenhagen:20270102T130000
DTSTAMP:20260422T154848
CREATED:20250625T122139Z
LAST-MODIFIED:20250625T122223Z
UID:10002624-1798887600-1798894800@respekt.ngo
SUMMARY:Kvindenetværk for alle – Vollsmose Aktivitetsforening
DESCRIPTION:Vollsmose Kvindenetværk byder alle kvinder velkommen\, uanset baggrund.\nVi mødes hver uge i Respekt for hyggelige stunder og arrangerer diverse begivenheder.\nTilmelding sker hos Sarwa Sharif på telefonnummer 60612998. Vi glæder os til at byde dig velkommen!
URL:https://respekt.ngo/event/kvindenetvaerk-for-alle-vollsmose-aktivitetsforening/2027-01-02/
LOCATION:Cafe Rum\, Risingsvej 132\, 5240\, Denmark
ATTACH;FMTTYPE=image/jpeg:https://respekt.ngo/wp-content/uploads/2025/06/g9xmluajetm-e1724621791660-D060OG.jpg
END:VEVENT
BEGIN:VEVENT
DTSTART;TZID=Europe/Copenhagen:20270103T110000
DTEND;TZID=Europe/Copenhagen:20270103T150000
DTSTAMP:20260422T154848
CREATED:20250625T104519Z
LAST-MODIFIED:20250625T125534Z
UID:10002072-1798974000-1798988400@respekt.ngo
SUMMARY:Børneklub ved Røde Sol Kulturforening
DESCRIPTION:Madlavning
URL:https://respekt.ngo/event/rode-sol-kulturforening-borneklub/2027-01-03/
LOCATION:Cafe Rum\, Risingsvej 132\, 5240\, Denmark
ATTACH;FMTTYPE=image/jpeg:https://respekt.ngo/wp-content/uploads/2024/11/IMG-20231209-WA0047.jpg
ORGANIZER;CN="R%C3%B8de Sol Kulturforening":MAILTO:gulshan@live.dk
END:VEVENT
BEGIN:VEVENT
DTSTART;TZID=Europe/Copenhagen:20270106T100000
DTEND;TZID=Europe/Copenhagen:20270106T130000
DTSTAMP:20260422T154848
CREATED:20260325T101952Z
LAST-MODIFIED:20260325T101952Z
UID:10005115-1799229600-1799240400@respekt.ngo
SUMMARY:Vietnamesisk seniorer
DESCRIPTION:Er du vietnamesisk senior i Odense og søger du hyggeligt fællesskab? Så kom og vær med til NHÓM HƯU TRÍ NGƯỜI VIỆT NAM i ODENSE! \nVi mødes i Café Respekt i Vollsmose. Her hygger vi os med spil (som Bầu cua tôm cá gà nai)\, sang (karaoke)\,  gymnastik\, fællesspisning og god snak. Vores Trivselsagenter Thủy og Pham Thi Yen byder dig varmt velkommen. Det er en fantastisk måde at møde nye venner og være en del af et aktivt fællesskab på. Kom og vær med!
URL:https://respekt.ngo/event/vietnam-senior-odense-3-2/2027-01-06/
LOCATION:Cafe Rum\, Risingsvej 132\, 5240\, Denmark
ATTACH;FMTTYPE=image/png:https://respekt.ngo/wp-content/uploads/2025/02/Beige-Minimalistic-Fun-Instagram-Post.png
END:VEVENT
END:VCALENDAR