BEGIN:VCALENDAR
VERSION:2.0
PRODID:-//Foreningen Respekt - ECPv6.14.0//NONSGML v1.0//EN
CALSCALE:GREGORIAN
METHOD:PUBLISH
X-ORIGINAL-URL:https://respekt.ngo
X-WR-CALDESC:Begivenheder for Foreningen Respekt
REFRESH-INTERVAL;VALUE=DURATION:PT1H
X-Robots-Tag:noindex
X-PUBLISHED-TTL:PT1H
BEGIN:VTIMEZONE
TZID:Europe/Copenhagen
BEGIN:DAYLIGHT
TZOFFSETFROM:+0100
TZOFFSETTO:+0200
TZNAME:CEST
DTSTART:20260329T010000
END:DAYLIGHT
BEGIN:STANDARD
TZOFFSETFROM:+0200
TZOFFSETTO:+0100
TZNAME:CET
DTSTART:20261025T010000
END:STANDARD
END:VTIMEZONE
BEGIN:VEVENT
DTSTART;TZID=Europe/Copenhagen:20260926T110000
DTEND;TZID=Europe/Copenhagen:20260926T130000
DTSTAMP:20260422T114307
CREATED:20250625T122139Z
LAST-MODIFIED:20250625T122223Z
UID:10002610-1790420400-1790427600@respekt.ngo
SUMMARY:Kvindenetværk for alle – Vollsmose Aktivitetsforening
DESCRIPTION:Vollsmose Kvindenetværk byder alle kvinder velkommen\, uanset baggrund.\nVi mødes hver uge i Respekt for hyggelige stunder og arrangerer diverse begivenheder.\nTilmelding sker hos Sarwa Sharif på telefonnummer 60612998. Vi glæder os til at byde dig velkommen!
URL:https://respekt.ngo/event/kvindenetvaerk-for-alle-vollsmose-aktivitetsforening/2026-09-26/
LOCATION:Cafe Rum\, Risingsvej 132\, 5240\, Denmark
ATTACH;FMTTYPE=image/jpeg:https://respekt.ngo/wp-content/uploads/2025/06/g9xmluajetm-e1724621791660-D060OG.jpg
END:VEVENT
BEGIN:VEVENT
DTSTART;TZID=Europe/Copenhagen:20260930T100000
DTEND;TZID=Europe/Copenhagen:20260930T130000
DTSTAMP:20260422T114307
CREATED:20260325T101952Z
LAST-MODIFIED:20260325T101952Z
UID:10005101-1790762400-1790773200@respekt.ngo
SUMMARY:Vietnamesisk seniorer
DESCRIPTION:Er du vietnamesisk senior i Odense og søger du hyggeligt fællesskab? Så kom og vær med til NHÓM HƯU TRÍ NGƯỜI VIỆT NAM i ODENSE! \nVi mødes i Café Respekt i Vollsmose. Her hygger vi os med spil (som Bầu cua tôm cá gà nai)\, sang (karaoke)\,  gymnastik\, fællesspisning og god snak. Vores Trivselsagenter Thủy og Pham Thi Yen byder dig varmt velkommen. Det er en fantastisk måde at møde nye venner og være en del af et aktivt fællesskab på. Kom og vær med!
URL:https://respekt.ngo/event/vietnam-senior-odense-3-2/2026-09-30/
LOCATION:Cafe Rum\, Risingsvej 132\, 5240\, Denmark
ATTACH;FMTTYPE=image/png:https://respekt.ngo/wp-content/uploads/2025/02/Beige-Minimalistic-Fun-Instagram-Post.png
END:VEVENT
BEGIN:VEVENT
DTSTART;TZID=Europe/Copenhagen:20261002T100000
DTEND;TZID=Europe/Copenhagen:20261002T120000
DTSTAMP:20260422T114307
CREATED:20250624T220718Z
LAST-MODIFIED:20250624T220718Z
UID:10000743-1790935200-1790942400@respekt.ngo
SUMMARY:Morgenmad med Kulturelt Kvindeforum
DESCRIPTION:Hver Fredag inviterer Kulturelt Kvindeforum\, alle kvinder på fælles morgenmad. Alle kvinder er velkomne\, og ræk endelig ud hvis du vil være med!Kontakt Nevine på flgd. nummer: 26 71 56 33
URL:https://respekt.ngo/event/morgenmad-med-kulturelt-kvindeforum/2026-10-02/
LOCATION:Cafe Rum\, Risingsvej 132\, 5240\, Denmark
ATTACH;FMTTYPE=image/jpeg:https://respekt.ngo/wp-content/uploads/2025/06/team-handshake-2021-12-09-21-20-39-utc-scaled-n5NkDI.jpg
END:VEVENT
BEGIN:VEVENT
DTSTART;TZID=Europe/Copenhagen:20261002T160000
DTEND;TZID=Europe/Copenhagen:20261002T193000
DTSTAMP:20260422T114307
CREATED:20250625T103343Z
LAST-MODIFIED:20250625T103343Z
UID:10001859-1790956800-1790969400@respekt.ngo
SUMMARY:Røde Sols Kvindecafé
DESCRIPTION:Røde Sols kvindecafé er et fællesskab åbent for kvinder af alle herkomster. Vi mødes i Respekt hver uge til hygge\, og har ofte også andre arrangementer.Alle er velkomne\, og tilmelding sker hos Aysel Hagi på tlf. 50 24 50 70
URL:https://respekt.ngo/event/rode-sols-kvindecafe/2026-10-02/
LOCATION:Cafe Rum\, Risingsvej 132\, 5240\, Denmark
ATTACH;FMTTYPE=image/png:https://respekt.ngo/wp-content/uploads/2023/02/roedesol2.png
ORGANIZER;CN="R%C3%B8de Sol Kulturforening":MAILTO:gulshan@live.dk
END:VEVENT
BEGIN:VEVENT
DTSTART;TZID=Europe/Copenhagen:20261003T110000
DTEND;TZID=Europe/Copenhagen:20261003T130000
DTSTAMP:20260422T114307
CREATED:20250625T122139Z
LAST-MODIFIED:20250625T122223Z
UID:10002611-1791025200-1791032400@respekt.ngo
SUMMARY:Kvindenetværk for alle – Vollsmose Aktivitetsforening
DESCRIPTION:Vollsmose Kvindenetværk byder alle kvinder velkommen\, uanset baggrund.\nVi mødes hver uge i Respekt for hyggelige stunder og arrangerer diverse begivenheder.\nTilmelding sker hos Sarwa Sharif på telefonnummer 60612998. Vi glæder os til at byde dig velkommen!
URL:https://respekt.ngo/event/kvindenetvaerk-for-alle-vollsmose-aktivitetsforening/2026-10-03/
LOCATION:Cafe Rum\, Risingsvej 132\, 5240\, Denmark
ATTACH;FMTTYPE=image/jpeg:https://respekt.ngo/wp-content/uploads/2025/06/g9xmluajetm-e1724621791660-D060OG.jpg
END:VEVENT
BEGIN:VEVENT
DTSTART;TZID=Europe/Copenhagen:20261004T110000
DTEND;TZID=Europe/Copenhagen:20261004T150000
DTSTAMP:20260422T114307
CREATED:20250625T104519Z
LAST-MODIFIED:20250625T125534Z
UID:10002069-1791111600-1791126000@respekt.ngo
SUMMARY:Børneklub ved Røde Sol Kulturforening
DESCRIPTION:Madlavning
URL:https://respekt.ngo/event/rode-sol-kulturforening-borneklub/2026-10-04/
LOCATION:Cafe Rum\, Risingsvej 132\, 5240\, Denmark
ATTACH;FMTTYPE=image/jpeg:https://respekt.ngo/wp-content/uploads/2024/11/IMG-20231209-WA0047.jpg
ORGANIZER;CN="R%C3%B8de Sol Kulturforening":MAILTO:gulshan@live.dk
END:VEVENT
BEGIN:VEVENT
DTSTART;TZID=Europe/Copenhagen:20261005T163000
DTEND;TZID=Europe/Copenhagen:20261005T210000
DTSTAMP:20260422T114307
CREATED:20251201T144240Z
LAST-MODIFIED:20251212T095930Z
UID:10004819-1791217800-1791234000@respekt.ngo
SUMMARY:Game girlzone
DESCRIPTION:🌸 GAME Girl Zone 🌸\nKom og vær med i et fællesskab kun for piger! Her handler det ikke om at være bedst – men om at have det sjovt sammen. Vi leger\, bagedyster\, laver street art\, perler og aktiviteter i Odense samt masser af andre ting\, du selv kan være med til at bestemme. \nDe seje kvindelige Playmakere sørger for trygge rammer og gode grin – og du får nye veninder undervejs 💜 \n👉 For piger fra 8-12 år\n👉 I GAME-zonerne i Odense\, København\, Viborg og Kolding \nKom som du er – vi glæder os til at se dig!
URL:https://respekt.ngo/event/game-girlzone-4/2026-10-05/
LOCATION:Cafe Rum\, Risingsvej 132\, 5240\, Denmark
ORGANIZER;CN="game":MAILTO:Soa@Game.ngo
END:VEVENT
BEGIN:VEVENT
DTSTART;TZID=Europe/Copenhagen:20261007T100000
DTEND;TZID=Europe/Copenhagen:20261007T130000
DTSTAMP:20260422T114307
CREATED:20260325T101952Z
LAST-MODIFIED:20260325T101952Z
UID:10005102-1791367200-1791378000@respekt.ngo
SUMMARY:Vietnamesisk seniorer
DESCRIPTION:Er du vietnamesisk senior i Odense og søger du hyggeligt fællesskab? Så kom og vær med til NHÓM HƯU TRÍ NGƯỜI VIỆT NAM i ODENSE! \nVi mødes i Café Respekt i Vollsmose. Her hygger vi os med spil (som Bầu cua tôm cá gà nai)\, sang (karaoke)\,  gymnastik\, fællesspisning og god snak. Vores Trivselsagenter Thủy og Pham Thi Yen byder dig varmt velkommen. Det er en fantastisk måde at møde nye venner og være en del af et aktivt fællesskab på. Kom og vær med!
URL:https://respekt.ngo/event/vietnam-senior-odense-3-2/2026-10-07/
LOCATION:Cafe Rum\, Risingsvej 132\, 5240\, Denmark
ATTACH;FMTTYPE=image/png:https://respekt.ngo/wp-content/uploads/2025/02/Beige-Minimalistic-Fun-Instagram-Post.png
END:VEVENT
BEGIN:VEVENT
DTSTART;TZID=Europe/Copenhagen:20261009T100000
DTEND;TZID=Europe/Copenhagen:20261009T120000
DTSTAMP:20260422T114307
CREATED:20250624T220718Z
LAST-MODIFIED:20250624T220718Z
UID:10000744-1791540000-1791547200@respekt.ngo
SUMMARY:Morgenmad med Kulturelt Kvindeforum
DESCRIPTION:Hver Fredag inviterer Kulturelt Kvindeforum\, alle kvinder på fælles morgenmad. Alle kvinder er velkomne\, og ræk endelig ud hvis du vil være med!Kontakt Nevine på flgd. nummer: 26 71 56 33
URL:https://respekt.ngo/event/morgenmad-med-kulturelt-kvindeforum/2026-10-09/
LOCATION:Cafe Rum\, Risingsvej 132\, 5240\, Denmark
ATTACH;FMTTYPE=image/jpeg:https://respekt.ngo/wp-content/uploads/2025/06/team-handshake-2021-12-09-21-20-39-utc-scaled-n5NkDI.jpg
END:VEVENT
BEGIN:VEVENT
DTSTART;TZID=Europe/Copenhagen:20261009T160000
DTEND;TZID=Europe/Copenhagen:20261009T193000
DTSTAMP:20260422T114307
CREATED:20250625T103343Z
LAST-MODIFIED:20250625T103343Z
UID:10001860-1791561600-1791574200@respekt.ngo
SUMMARY:Røde Sols Kvindecafé
DESCRIPTION:Røde Sols kvindecafé er et fællesskab åbent for kvinder af alle herkomster. Vi mødes i Respekt hver uge til hygge\, og har ofte også andre arrangementer.Alle er velkomne\, og tilmelding sker hos Aysel Hagi på tlf. 50 24 50 70
URL:https://respekt.ngo/event/rode-sols-kvindecafe/2026-10-09/
LOCATION:Cafe Rum\, Risingsvej 132\, 5240\, Denmark
ATTACH;FMTTYPE=image/png:https://respekt.ngo/wp-content/uploads/2023/02/roedesol2.png
ORGANIZER;CN="R%C3%B8de Sol Kulturforening":MAILTO:gulshan@live.dk
END:VEVENT
BEGIN:VEVENT
DTSTART;TZID=Europe/Copenhagen:20261010T110000
DTEND;TZID=Europe/Copenhagen:20261010T130000
DTSTAMP:20260422T114307
CREATED:20250625T122139Z
LAST-MODIFIED:20250625T122223Z
UID:10002612-1791630000-1791637200@respekt.ngo
SUMMARY:Kvindenetværk for alle – Vollsmose Aktivitetsforening
DESCRIPTION:Vollsmose Kvindenetværk byder alle kvinder velkommen\, uanset baggrund.\nVi mødes hver uge i Respekt for hyggelige stunder og arrangerer diverse begivenheder.\nTilmelding sker hos Sarwa Sharif på telefonnummer 60612998. Vi glæder os til at byde dig velkommen!
URL:https://respekt.ngo/event/kvindenetvaerk-for-alle-vollsmose-aktivitetsforening/2026-10-10/
LOCATION:Cafe Rum\, Risingsvej 132\, 5240\, Denmark
ATTACH;FMTTYPE=image/jpeg:https://respekt.ngo/wp-content/uploads/2025/06/g9xmluajetm-e1724621791660-D060OG.jpg
END:VEVENT
BEGIN:VEVENT
DTSTART;TZID=Europe/Copenhagen:20261014T100000
DTEND;TZID=Europe/Copenhagen:20261014T130000
DTSTAMP:20260422T114307
CREATED:20260325T101952Z
LAST-MODIFIED:20260325T101952Z
UID:10005103-1791972000-1791982800@respekt.ngo
SUMMARY:Vietnamesisk seniorer
DESCRIPTION:Er du vietnamesisk senior i Odense og søger du hyggeligt fællesskab? Så kom og vær med til NHÓM HƯU TRÍ NGƯỜI VIỆT NAM i ODENSE! \nVi mødes i Café Respekt i Vollsmose. Her hygger vi os med spil (som Bầu cua tôm cá gà nai)\, sang (karaoke)\,  gymnastik\, fællesspisning og god snak. Vores Trivselsagenter Thủy og Pham Thi Yen byder dig varmt velkommen. Det er en fantastisk måde at møde nye venner og være en del af et aktivt fællesskab på. Kom og vær med!
URL:https://respekt.ngo/event/vietnam-senior-odense-3-2/2026-10-14/
LOCATION:Cafe Rum\, Risingsvej 132\, 5240\, Denmark
ATTACH;FMTTYPE=image/png:https://respekt.ngo/wp-content/uploads/2025/02/Beige-Minimalistic-Fun-Instagram-Post.png
END:VEVENT
BEGIN:VEVENT
DTSTART;TZID=Europe/Copenhagen:20261016T100000
DTEND;TZID=Europe/Copenhagen:20261016T120000
DTSTAMP:20260422T114307
CREATED:20250624T220718Z
LAST-MODIFIED:20250624T220718Z
UID:10000745-1792144800-1792152000@respekt.ngo
SUMMARY:Morgenmad med Kulturelt Kvindeforum
DESCRIPTION:Hver Fredag inviterer Kulturelt Kvindeforum\, alle kvinder på fælles morgenmad. Alle kvinder er velkomne\, og ræk endelig ud hvis du vil være med!Kontakt Nevine på flgd. nummer: 26 71 56 33
URL:https://respekt.ngo/event/morgenmad-med-kulturelt-kvindeforum/2026-10-16/
LOCATION:Cafe Rum\, Risingsvej 132\, 5240\, Denmark
ATTACH;FMTTYPE=image/jpeg:https://respekt.ngo/wp-content/uploads/2025/06/team-handshake-2021-12-09-21-20-39-utc-scaled-n5NkDI.jpg
END:VEVENT
BEGIN:VEVENT
DTSTART;TZID=Europe/Copenhagen:20261016T160000
DTEND;TZID=Europe/Copenhagen:20261016T193000
DTSTAMP:20260422T114307
CREATED:20250625T103343Z
LAST-MODIFIED:20250625T103343Z
UID:10001861-1792166400-1792179000@respekt.ngo
SUMMARY:Røde Sols Kvindecafé
DESCRIPTION:Røde Sols kvindecafé er et fællesskab åbent for kvinder af alle herkomster. Vi mødes i Respekt hver uge til hygge\, og har ofte også andre arrangementer.Alle er velkomne\, og tilmelding sker hos Aysel Hagi på tlf. 50 24 50 70
URL:https://respekt.ngo/event/rode-sols-kvindecafe/2026-10-16/
LOCATION:Cafe Rum\, Risingsvej 132\, 5240\, Denmark
ATTACH;FMTTYPE=image/png:https://respekt.ngo/wp-content/uploads/2023/02/roedesol2.png
ORGANIZER;CN="R%C3%B8de Sol Kulturforening":MAILTO:gulshan@live.dk
END:VEVENT
BEGIN:VEVENT
DTSTART;TZID=Europe/Copenhagen:20261017T110000
DTEND;TZID=Europe/Copenhagen:20261017T130000
DTSTAMP:20260422T114307
CREATED:20250625T122139Z
LAST-MODIFIED:20250625T122223Z
UID:10002613-1792234800-1792242000@respekt.ngo
SUMMARY:Kvindenetværk for alle – Vollsmose Aktivitetsforening
DESCRIPTION:Vollsmose Kvindenetværk byder alle kvinder velkommen\, uanset baggrund.\nVi mødes hver uge i Respekt for hyggelige stunder og arrangerer diverse begivenheder.\nTilmelding sker hos Sarwa Sharif på telefonnummer 60612998. Vi glæder os til at byde dig velkommen!
URL:https://respekt.ngo/event/kvindenetvaerk-for-alle-vollsmose-aktivitetsforening/2026-10-17/
LOCATION:Cafe Rum\, Risingsvej 132\, 5240\, Denmark
ATTACH;FMTTYPE=image/jpeg:https://respekt.ngo/wp-content/uploads/2025/06/g9xmluajetm-e1724621791660-D060OG.jpg
END:VEVENT
BEGIN:VEVENT
DTSTART;TZID=Europe/Copenhagen:20261021T100000
DTEND;TZID=Europe/Copenhagen:20261021T130000
DTSTAMP:20260422T114307
CREATED:20260325T101952Z
LAST-MODIFIED:20260325T101952Z
UID:10005104-1792576800-1792587600@respekt.ngo
SUMMARY:Vietnamesisk seniorer
DESCRIPTION:Er du vietnamesisk senior i Odense og søger du hyggeligt fællesskab? Så kom og vær med til NHÓM HƯU TRÍ NGƯỜI VIỆT NAM i ODENSE! \nVi mødes i Café Respekt i Vollsmose. Her hygger vi os med spil (som Bầu cua tôm cá gà nai)\, sang (karaoke)\,  gymnastik\, fællesspisning og god snak. Vores Trivselsagenter Thủy og Pham Thi Yen byder dig varmt velkommen. Det er en fantastisk måde at møde nye venner og være en del af et aktivt fællesskab på. Kom og vær med!
URL:https://respekt.ngo/event/vietnam-senior-odense-3-2/2026-10-21/
LOCATION:Cafe Rum\, Risingsvej 132\, 5240\, Denmark
ATTACH;FMTTYPE=image/png:https://respekt.ngo/wp-content/uploads/2025/02/Beige-Minimalistic-Fun-Instagram-Post.png
END:VEVENT
BEGIN:VEVENT
DTSTART;TZID=Europe/Copenhagen:20261023T100000
DTEND;TZID=Europe/Copenhagen:20261023T120000
DTSTAMP:20260422T114307
CREATED:20250624T220718Z
LAST-MODIFIED:20250624T220718Z
UID:10000746-1792749600-1792756800@respekt.ngo
SUMMARY:Morgenmad med Kulturelt Kvindeforum
DESCRIPTION:Hver Fredag inviterer Kulturelt Kvindeforum\, alle kvinder på fælles morgenmad. Alle kvinder er velkomne\, og ræk endelig ud hvis du vil være med!Kontakt Nevine på flgd. nummer: 26 71 56 33
URL:https://respekt.ngo/event/morgenmad-med-kulturelt-kvindeforum/2026-10-23/
LOCATION:Cafe Rum\, Risingsvej 132\, 5240\, Denmark
ATTACH;FMTTYPE=image/jpeg:https://respekt.ngo/wp-content/uploads/2025/06/team-handshake-2021-12-09-21-20-39-utc-scaled-n5NkDI.jpg
END:VEVENT
BEGIN:VEVENT
DTSTART;TZID=Europe/Copenhagen:20261023T160000
DTEND;TZID=Europe/Copenhagen:20261023T193000
DTSTAMP:20260422T114307
CREATED:20250625T103343Z
LAST-MODIFIED:20250625T103343Z
UID:10001862-1792771200-1792783800@respekt.ngo
SUMMARY:Røde Sols Kvindecafé
DESCRIPTION:Røde Sols kvindecafé er et fællesskab åbent for kvinder af alle herkomster. Vi mødes i Respekt hver uge til hygge\, og har ofte også andre arrangementer.Alle er velkomne\, og tilmelding sker hos Aysel Hagi på tlf. 50 24 50 70
URL:https://respekt.ngo/event/rode-sols-kvindecafe/2026-10-23/
LOCATION:Cafe Rum\, Risingsvej 132\, 5240\, Denmark
ATTACH;FMTTYPE=image/png:https://respekt.ngo/wp-content/uploads/2023/02/roedesol2.png
ORGANIZER;CN="R%C3%B8de Sol Kulturforening":MAILTO:gulshan@live.dk
END:VEVENT
BEGIN:VEVENT
DTSTART;TZID=Europe/Copenhagen:20261024T110000
DTEND;TZID=Europe/Copenhagen:20261024T130000
DTSTAMP:20260422T114307
CREATED:20250625T122139Z
LAST-MODIFIED:20250625T122223Z
UID:10002614-1792839600-1792846800@respekt.ngo
SUMMARY:Kvindenetværk for alle – Vollsmose Aktivitetsforening
DESCRIPTION:Vollsmose Kvindenetværk byder alle kvinder velkommen\, uanset baggrund.\nVi mødes hver uge i Respekt for hyggelige stunder og arrangerer diverse begivenheder.\nTilmelding sker hos Sarwa Sharif på telefonnummer 60612998. Vi glæder os til at byde dig velkommen!
URL:https://respekt.ngo/event/kvindenetvaerk-for-alle-vollsmose-aktivitetsforening/2026-10-24/
LOCATION:Cafe Rum\, Risingsvej 132\, 5240\, Denmark
ATTACH;FMTTYPE=image/jpeg:https://respekt.ngo/wp-content/uploads/2025/06/g9xmluajetm-e1724621791660-D060OG.jpg
END:VEVENT
BEGIN:VEVENT
DTSTART;TZID=Europe/Copenhagen:20261026T163000
DTEND;TZID=Europe/Copenhagen:20261026T210000
DTSTAMP:20260422T114307
CREATED:20251201T144240Z
LAST-MODIFIED:20251212T095930Z
UID:10004820-1793032200-1793048400@respekt.ngo
SUMMARY:Game girlzone
DESCRIPTION:🌸 GAME Girl Zone 🌸\nKom og vær med i et fællesskab kun for piger! Her handler det ikke om at være bedst – men om at have det sjovt sammen. Vi leger\, bagedyster\, laver street art\, perler og aktiviteter i Odense samt masser af andre ting\, du selv kan være med til at bestemme. \nDe seje kvindelige Playmakere sørger for trygge rammer og gode grin – og du får nye veninder undervejs 💜 \n👉 For piger fra 8-12 år\n👉 I GAME-zonerne i Odense\, København\, Viborg og Kolding \nKom som du er – vi glæder os til at se dig!
URL:https://respekt.ngo/event/game-girlzone-4/2026-10-26/
LOCATION:Cafe Rum\, Risingsvej 132\, 5240\, Denmark
ORGANIZER;CN="game":MAILTO:Soa@Game.ngo
END:VEVENT
BEGIN:VEVENT
DTSTART;TZID=Europe/Copenhagen:20261028T100000
DTEND;TZID=Europe/Copenhagen:20261028T130000
DTSTAMP:20260422T114307
CREATED:20260325T101952Z
LAST-MODIFIED:20260325T101952Z
UID:10005105-1793181600-1793192400@respekt.ngo
SUMMARY:Vietnamesisk seniorer
DESCRIPTION:Er du vietnamesisk senior i Odense og søger du hyggeligt fællesskab? Så kom og vær med til NHÓM HƯU TRÍ NGƯỜI VIỆT NAM i ODENSE! \nVi mødes i Café Respekt i Vollsmose. Her hygger vi os med spil (som Bầu cua tôm cá gà nai)\, sang (karaoke)\,  gymnastik\, fællesspisning og god snak. Vores Trivselsagenter Thủy og Pham Thi Yen byder dig varmt velkommen. Det er en fantastisk måde at møde nye venner og være en del af et aktivt fællesskab på. Kom og vær med!
URL:https://respekt.ngo/event/vietnam-senior-odense-3-2/2026-10-28/
LOCATION:Cafe Rum\, Risingsvej 132\, 5240\, Denmark
ATTACH;FMTTYPE=image/png:https://respekt.ngo/wp-content/uploads/2025/02/Beige-Minimalistic-Fun-Instagram-Post.png
END:VEVENT
BEGIN:VEVENT
DTSTART;TZID=Europe/Copenhagen:20261030T100000
DTEND;TZID=Europe/Copenhagen:20261030T120000
DTSTAMP:20260422T114307
CREATED:20250624T220718Z
LAST-MODIFIED:20250624T220718Z
UID:10000747-1793354400-1793361600@respekt.ngo
SUMMARY:Morgenmad med Kulturelt Kvindeforum
DESCRIPTION:Hver Fredag inviterer Kulturelt Kvindeforum\, alle kvinder på fælles morgenmad. Alle kvinder er velkomne\, og ræk endelig ud hvis du vil være med!Kontakt Nevine på flgd. nummer: 26 71 56 33
URL:https://respekt.ngo/event/morgenmad-med-kulturelt-kvindeforum/2026-10-30/
LOCATION:Cafe Rum\, Risingsvej 132\, 5240\, Denmark
ATTACH;FMTTYPE=image/jpeg:https://respekt.ngo/wp-content/uploads/2025/06/team-handshake-2021-12-09-21-20-39-utc-scaled-n5NkDI.jpg
END:VEVENT
BEGIN:VEVENT
DTSTART;TZID=Europe/Copenhagen:20261030T160000
DTEND;TZID=Europe/Copenhagen:20261030T193000
DTSTAMP:20260422T114307
CREATED:20250625T103343Z
LAST-MODIFIED:20250625T103343Z
UID:10001863-1793376000-1793388600@respekt.ngo
SUMMARY:Røde Sols Kvindecafé
DESCRIPTION:Røde Sols kvindecafé er et fællesskab åbent for kvinder af alle herkomster. Vi mødes i Respekt hver uge til hygge\, og har ofte også andre arrangementer.Alle er velkomne\, og tilmelding sker hos Aysel Hagi på tlf. 50 24 50 70
URL:https://respekt.ngo/event/rode-sols-kvindecafe/2026-10-30/
LOCATION:Cafe Rum\, Risingsvej 132\, 5240\, Denmark
ATTACH;FMTTYPE=image/png:https://respekt.ngo/wp-content/uploads/2023/02/roedesol2.png
ORGANIZER;CN="R%C3%B8de Sol Kulturforening":MAILTO:gulshan@live.dk
END:VEVENT
BEGIN:VEVENT
DTSTART;TZID=Europe/Copenhagen:20261031T110000
DTEND;TZID=Europe/Copenhagen:20261031T130000
DTSTAMP:20260422T114307
CREATED:20250625T122139Z
LAST-MODIFIED:20250625T122223Z
UID:10002615-1793444400-1793451600@respekt.ngo
SUMMARY:Kvindenetværk for alle – Vollsmose Aktivitetsforening
DESCRIPTION:Vollsmose Kvindenetværk byder alle kvinder velkommen\, uanset baggrund.\nVi mødes hver uge i Respekt for hyggelige stunder og arrangerer diverse begivenheder.\nTilmelding sker hos Sarwa Sharif på telefonnummer 60612998. Vi glæder os til at byde dig velkommen!
URL:https://respekt.ngo/event/kvindenetvaerk-for-alle-vollsmose-aktivitetsforening/2026-10-31/
LOCATION:Cafe Rum\, Risingsvej 132\, 5240\, Denmark
ATTACH;FMTTYPE=image/jpeg:https://respekt.ngo/wp-content/uploads/2025/06/g9xmluajetm-e1724621791660-D060OG.jpg
END:VEVENT
BEGIN:VEVENT
DTSTART;TZID=Europe/Copenhagen:20261101T110000
DTEND;TZID=Europe/Copenhagen:20261101T150000
DTSTAMP:20260422T114307
CREATED:20250625T104519Z
LAST-MODIFIED:20250625T125534Z
UID:10002070-1793530800-1793545200@respekt.ngo
SUMMARY:Børneklub ved Røde Sol Kulturforening
DESCRIPTION:Madlavning
URL:https://respekt.ngo/event/rode-sol-kulturforening-borneklub/2026-11-01/
LOCATION:Cafe Rum\, Risingsvej 132\, 5240\, Denmark
ATTACH;FMTTYPE=image/jpeg:https://respekt.ngo/wp-content/uploads/2024/11/IMG-20231209-WA0047.jpg
ORGANIZER;CN="R%C3%B8de Sol Kulturforening":MAILTO:gulshan@live.dk
END:VEVENT
BEGIN:VEVENT
DTSTART;TZID=Europe/Copenhagen:20261104T100000
DTEND;TZID=Europe/Copenhagen:20261104T130000
DTSTAMP:20260422T114307
CREATED:20260325T101952Z
LAST-MODIFIED:20260325T101952Z
UID:10005106-1793786400-1793797200@respekt.ngo
SUMMARY:Vietnamesisk seniorer
DESCRIPTION:Er du vietnamesisk senior i Odense og søger du hyggeligt fællesskab? Så kom og vær med til NHÓM HƯU TRÍ NGƯỜI VIỆT NAM i ODENSE! \nVi mødes i Café Respekt i Vollsmose. Her hygger vi os med spil (som Bầu cua tôm cá gà nai)\, sang (karaoke)\,  gymnastik\, fællesspisning og god snak. Vores Trivselsagenter Thủy og Pham Thi Yen byder dig varmt velkommen. Det er en fantastisk måde at møde nye venner og være en del af et aktivt fællesskab på. Kom og vær med!
URL:https://respekt.ngo/event/vietnam-senior-odense-3-2/2026-11-04/
LOCATION:Cafe Rum\, Risingsvej 132\, 5240\, Denmark
ATTACH;FMTTYPE=image/png:https://respekt.ngo/wp-content/uploads/2025/02/Beige-Minimalistic-Fun-Instagram-Post.png
END:VEVENT
BEGIN:VEVENT
DTSTART;TZID=Europe/Copenhagen:20261106T100000
DTEND;TZID=Europe/Copenhagen:20261106T120000
DTSTAMP:20260422T114307
CREATED:20250624T220718Z
LAST-MODIFIED:20250624T220718Z
UID:10000748-1793959200-1793966400@respekt.ngo
SUMMARY:Morgenmad med Kulturelt Kvindeforum
DESCRIPTION:Hver Fredag inviterer Kulturelt Kvindeforum\, alle kvinder på fælles morgenmad. Alle kvinder er velkomne\, og ræk endelig ud hvis du vil være med!Kontakt Nevine på flgd. nummer: 26 71 56 33
URL:https://respekt.ngo/event/morgenmad-med-kulturelt-kvindeforum/2026-11-06/
LOCATION:Cafe Rum\, Risingsvej 132\, 5240\, Denmark
ATTACH;FMTTYPE=image/jpeg:https://respekt.ngo/wp-content/uploads/2025/06/team-handshake-2021-12-09-21-20-39-utc-scaled-n5NkDI.jpg
END:VEVENT
BEGIN:VEVENT
DTSTART;TZID=Europe/Copenhagen:20261106T160000
DTEND;TZID=Europe/Copenhagen:20261106T193000
DTSTAMP:20260422T114307
CREATED:20250625T103343Z
LAST-MODIFIED:20250625T103343Z
UID:10001864-1793980800-1793993400@respekt.ngo
SUMMARY:Røde Sols Kvindecafé
DESCRIPTION:Røde Sols kvindecafé er et fællesskab åbent for kvinder af alle herkomster. Vi mødes i Respekt hver uge til hygge\, og har ofte også andre arrangementer.Alle er velkomne\, og tilmelding sker hos Aysel Hagi på tlf. 50 24 50 70
URL:https://respekt.ngo/event/rode-sols-kvindecafe/2026-11-06/
LOCATION:Cafe Rum\, Risingsvej 132\, 5240\, Denmark
ATTACH;FMTTYPE=image/png:https://respekt.ngo/wp-content/uploads/2023/02/roedesol2.png
ORGANIZER;CN="R%C3%B8de Sol Kulturforening":MAILTO:gulshan@live.dk
END:VEVENT
BEGIN:VEVENT
DTSTART;TZID=Europe/Copenhagen:20261107T110000
DTEND;TZID=Europe/Copenhagen:20261107T130000
DTSTAMP:20260422T114307
CREATED:20250625T122139Z
LAST-MODIFIED:20250625T122223Z
UID:10002616-1794049200-1794056400@respekt.ngo
SUMMARY:Kvindenetværk for alle – Vollsmose Aktivitetsforening
DESCRIPTION:Vollsmose Kvindenetværk byder alle kvinder velkommen\, uanset baggrund.\nVi mødes hver uge i Respekt for hyggelige stunder og arrangerer diverse begivenheder.\nTilmelding sker hos Sarwa Sharif på telefonnummer 60612998. Vi glæder os til at byde dig velkommen!
URL:https://respekt.ngo/event/kvindenetvaerk-for-alle-vollsmose-aktivitetsforening/2026-11-07/
LOCATION:Cafe Rum\, Risingsvej 132\, 5240\, Denmark
ATTACH;FMTTYPE=image/jpeg:https://respekt.ngo/wp-content/uploads/2025/06/g9xmluajetm-e1724621791660-D060OG.jpg
END:VEVENT
BEGIN:VEVENT
DTSTART;TZID=Europe/Copenhagen:20261111T100000
DTEND;TZID=Europe/Copenhagen:20261111T130000
DTSTAMP:20260422T114307
CREATED:20260325T101952Z
LAST-MODIFIED:20260325T101952Z
UID:10005107-1794391200-1794402000@respekt.ngo
SUMMARY:Vietnamesisk seniorer
DESCRIPTION:Er du vietnamesisk senior i Odense og søger du hyggeligt fællesskab? Så kom og vær med til NHÓM HƯU TRÍ NGƯỜI VIỆT NAM i ODENSE! \nVi mødes i Café Respekt i Vollsmose. Her hygger vi os med spil (som Bầu cua tôm cá gà nai)\, sang (karaoke)\,  gymnastik\, fællesspisning og god snak. Vores Trivselsagenter Thủy og Pham Thi Yen byder dig varmt velkommen. Det er en fantastisk måde at møde nye venner og være en del af et aktivt fællesskab på. Kom og vær med!
URL:https://respekt.ngo/event/vietnam-senior-odense-3-2/2026-11-11/
LOCATION:Cafe Rum\, Risingsvej 132\, 5240\, Denmark
ATTACH;FMTTYPE=image/png:https://respekt.ngo/wp-content/uploads/2025/02/Beige-Minimalistic-Fun-Instagram-Post.png
END:VEVENT
END:VCALENDAR